BEGIN:VCALENDAR
VERSION:2.0
PRODID:-//北海道中小企業家同友会とかち支部 - ECPv4.6.8//NONSGML v1.0//EN
CALSCALE:GREGORIAN
METHOD:PUBLISH
X-WR-CALNAME:北海道中小企業家同友会とかち支部
X-ORIGINAL-URL:https://tokachi-obihiro.doyu.jp
X-WR-CALDESC:Events for 北海道中小企業家同友会とかち支部
BEGIN:VEVENT
DTSTART;TZID=Asia/Tokyo:20180705T183000
DTEND;TZID=Asia/Tokyo:20180705T210000
DTSTAMP:20260421T141029
CREATED:20180614T020335Z
LAST-MODIFIED:20180621T011901Z
UID:3350-1530815400-1530824400@tokachi-obihiro.doyu.jp
SUMMARY:第１回地区会交流委員会・地区会正副会長・幹事長会議
DESCRIPTION:■日　時:７月５日（木）１８：３０～２１：００（１８：３０～１９：４５ 会議 ／ １９：４５～２１：００ 懇親会）\n■会　場:十勝ガーデンズホテル（帯広市西２条南１１丁目１６、TEL:０１５５-２６-５５５５）\n■会　費:５５００円（懇親会費等として）\n■議 題\n１．２０１８年度の地区会活動等について\n２．全道経営者“共育”研究集会inとかちについて\n３．第１０回地区会交流会について\n４．その他 \nPDFはこちら \n第１回地区会交流委員会・地区会正副会長・幹事長会議
URL:https://tokachi-obihiro.doyu.jp/event/event3350/
LOCATION:帯広市西2条南11丁目16\, 帯広市\, 北海道\, Japan
CATEGORIES:行事予定告知
ATTACH;FMTTYPE=image/jpeg:https://tokachi-obihiro.doyu.jp/wp/wp-content/uploads/2017/12/thum_logo1.jpg
END:VEVENT
END:VCALENDAR