BEGIN:VCALENDAR
VERSION:2.0
PRODID:-//北海道中小企業家同友会とかち支部 - ECPv4.6.8//NONSGML v1.0//EN
CALSCALE:GREGORIAN
METHOD:PUBLISH
X-WR-CALNAME:北海道中小企業家同友会とかち支部
X-ORIGINAL-URL:https://tokachi-obihiro.doyu.jp
X-WR-CALDESC:Events for 北海道中小企業家同友会とかち支部
BEGIN:VEVENT
DTSTART;TZID=Asia/Tokyo:20180627T190000
DTEND;TZID=Asia/Tokyo:20180627T210000
DTSTAMP:20260422T084545
CREATED:20180530T050718Z
LAST-MODIFIED:20180530T050718Z
UID:3176-1530126000-1530133200@tokachi-obihiro.doyu.jp
SUMMARY:とかち支部６月例会
DESCRIPTION:◇日時：６月２７日（水）　１９：００～２１：００\n　19：00講演　20：00グループ討論　20：45質問への回答　21：00閉会\n◇会場：とかち館 孔雀の間（帯広市西7条南6丁目2　電話：0155-24-1040）\n◇会費：一社１，０００円（会場代他として）\n◇テーマ：社員がやりがいを持って働ける職場環境とは何か\n◇報告者：㈱ネクサス　代表取締役会長　　曽根　一 氏\n　　　　　　　　　　　　　常務取締役　花久　正子 氏\n　　　　　ソーゴー印刷㈱　代表取締役　　高原　淳 氏 \nPDFはこちら \nとかち支部６月例会
URL:https://tokachi-obihiro.doyu.jp/event/event3176/
LOCATION:帯広市西７条南６丁目２番地\, 帯広市\, 北海道\, 080-0017
CATEGORIES:行事予定告知
ATTACH;FMTTYPE=image/jpeg:https://tokachi-obihiro.doyu.jp/wp/wp-content/uploads/2017/12/thum_logo1.jpg
END:VEVENT
END:VCALENDAR