BEGIN:VCALENDAR
VERSION:2.0
PRODID:-//北海道中小企業家同友会とかち支部 - ECPv4.6.8//NONSGML v1.0//EN
CALSCALE:GREGORIAN
METHOD:PUBLISH
X-WR-CALNAME:北海道中小企業家同友会とかち支部
X-ORIGINAL-URL:https://tokachi-obihiro.doyu.jp
X-WR-CALDESC:Events for 北海道中小企業家同友会とかち支部
BEGIN:VEVENT
DTSTART;TZID=Asia/Tokyo:20180612T190000
DTEND;TZID=Asia/Tokyo:20180612T220000
DTSTAMP:20260423T140827
CREATED:20180528T062340Z
LAST-MODIFIED:20180528T062340Z
UID:3148-1528830000-1528840800@tokachi-obihiro.doyu.jp
SUMMARY:経営指針研究会Cグループ第4講
DESCRIPTION:日時：6月12日（火）19：00～22：00\n会場：ドライブインいとう(清水町熊牛90）\n発表者：大石 浩輝さん、星 初雄さん\n課題：経営理念シート \n経営指針研究会Cグループ第4講
URL:https://tokachi-obihiro.doyu.jp/event/event3148/
LOCATION:上川郡清水町熊牛90\, 北海道\, Japan
CATEGORIES:行事予定告知
ATTACH;FMTTYPE=image/jpeg:https://tokachi-obihiro.doyu.jp/wp/wp-content/uploads/2017/12/thum_logo1.jpg
END:VEVENT
END:VCALENDAR