BEGIN:VCALENDAR
VERSION:2.0
PRODID:-//北海道中小企業家同友会とかち支部 - ECPv4.6.8//NONSGML v1.0//EN
CALSCALE:GREGORIAN
METHOD:PUBLISH
X-WR-CALNAME:北海道中小企業家同友会とかち支部
X-ORIGINAL-URL:https://tokachi-obihiro.doyu.jp
X-WR-CALDESC:Events for 北海道中小企業家同友会とかち支部
BEGIN:VEVENT
DTSTART;TZID=Asia/Tokyo:20260507T183000
DTEND;TZID=Asia/Tokyo:20260507T200000
DTSTAMP:20260421T130142
CREATED:20260421T005253Z
LAST-MODIFIED:20260421T005253Z
UID:30053-1778178600-1778184000@tokachi-obihiro.doyu.jp
SUMMARY:IT総合研究会５月例会
DESCRIPTION:【テーマ】　IT総研がAIを総合的に研究してみる90分\n　　　　　　DXとは一体何だったのか？\n　　　　　　そしてAI時代はなにが変わるのか？ \n【報告者】　（株）GuGu　代表取締役 坂口　愛 氏 \n■日　時：５月７日（木）18：30～20：00\n■会　場：同友会事務所\n■参加費：無料\n　　　　　会場のみの参加となります \n※締め切り：5/2（土） \n「自動車がなかった時代に人が求めたのは速い馬だった」\n大きな変化は起きる前には想像すらできないものです。\nいまAIは日常にも仕事にも入り込み、私たちの判断や行動を大きく変えつつあります。\nそして、世界のルールが静かに、しかし確実に変わり始めています。\nAI時代の荒波に影響を真っ先に受けているのITエンジニアとともに、その本質と次の一手を考えます。 \nIT総合研究会５月例会
URL:https://tokachi-obihiro.doyu.jp/event/event30053/
LOCATION:北海道帯広市東2条南5丁目1-1\, Japan
CATEGORIES:行事予定告知
ATTACH;FMTTYPE=image/jpeg:https://tokachi-obihiro.doyu.jp/wp/wp-content/uploads/2017/12/thum_logo1.jpg
ORGANIZER;CN="%E5%8C%97%E6%B5%B7%E9%81%93%E4%B8%AD%E5%B0%8F%E4%BC%81%E6%A5%AD%E5%AE%B6%E5%90%8C%E5%8F%8B%E4%BC%9A%E3%81%A8%E3%81%8B%E3%81%A1%E6%94%AF%E9%83%A8":MAILTO:tokachi@hokkaido.doyu.jp
END:VEVENT
END:VCALENDAR