BEGIN:VCALENDAR
VERSION:2.0
PRODID:-//北海道中小企業家同友会とかち支部 - ECPv4.6.8//NONSGML v1.0//EN
CALSCALE:GREGORIAN
METHOD:PUBLISH
X-WR-CALNAME:北海道中小企業家同友会とかち支部
X-ORIGINAL-URL:https://tokachi-obihiro.doyu.jp
X-WR-CALDESC:Events for 北海道中小企業家同友会とかち支部
BEGIN:VEVENT
DTSTART;TZID=Asia/Tokyo:20260217T190000
DTEND;TZID=Asia/Tokyo:20260217T210000
DTSTAMP:20260422T130530
CREATED:20260206T010122Z
LAST-MODIFIED:20260206T010122Z
UID:29541-1771354800-1771362000@tokachi-obihiro.doyu.jp
SUMMARY:拓の会 第1グループ（侃々諤々（かんかんがくがく））2月例会
DESCRIPTION:■テーマ：\n■話題提供者：中村農場　副代表 中村　良子氏\n■日　時：2月17日(火)　１９：００～２１：００\n■会　場：同友会とかち支部事務所（帯広市東2条南5丁目） \n拓の会 第1グループ（侃々諤々（かんかんがくがく））2月例会
URL:https://tokachi-obihiro.doyu.jp/event/event29541/
LOCATION:北海道帯広市東2条南5丁目1-1\, Japan
CATEGORIES:行事予定告知
ATTACH;FMTTYPE=image/jpeg:https://tokachi-obihiro.doyu.jp/wp/wp-content/uploads/2017/12/thum_logo1.jpg
ORGANIZER;CN="%E5%8C%97%E6%B5%B7%E9%81%93%E4%B8%AD%E5%B0%8F%E4%BC%81%E6%A5%AD%E5%AE%B6%E5%90%8C%E5%8F%8B%E4%BC%9A%E3%81%A8%E3%81%8B%E3%81%A1%E6%94%AF%E9%83%A8":MAILTO:tokachi@hokkaido.doyu.jp
END:VEVENT
END:VCALENDAR