BEGIN:VCALENDAR
VERSION:2.0
PRODID:-//北海道中小企業家同友会とかち支部 - ECPv4.6.8//NONSGML v1.0//EN
CALSCALE:GREGORIAN
METHOD:PUBLISH
X-WR-CALNAME:北海道中小企業家同友会とかち支部
X-ORIGINAL-URL:https://tokachi-obihiro.doyu.jp
X-WR-CALDESC:Events for 北海道中小企業家同友会とかち支部
BEGIN:VEVENT
DTSTART;TZID=Asia/Tokyo:20260217T190000
DTEND;TZID=Asia/Tokyo:20260217T210000
DTSTAMP:20260423T112621
CREATED:20260116T085250Z
LAST-MODIFIED:20260116T085250Z
UID:29403-1771354800-1771362000@tokachi-obihiro.doyu.jp
SUMMARY:あすなる会魁‼︎労務塾グループ2月例会
DESCRIPTION:【テーマ】1年間の振り返り \n【報告者】社会保険労務士法人土田陽子事務所　土田　陽子　氏 \n　　　　　第7話「さらば労務塾 勇気と根性で会社を築け」 \n  \n今年度、1年間にわたり活動してきました\n【魁‼︎労務塾】ですが、今回の例会をもちまして最後の開催となります。 \n最終回となる今回は、これまでの取り組みや学びについて\n皆さんと一緒に振り返る時間にしたいと考えております。 \nぜひ、ご参加いただき、率直なご意見やご感想をお聞かせいただければ幸いです。 \n━━━━━━━━━━━━━━━━━━━━━━━━━\n■日　時：2月17日（火）19：00～21：00\n■会　場：人数確定次第、決定\n━━━━━━━━━━━━━━━━━━━━━━━━━\n2月9日（金）までに出欠の回答をお願い致します。 \nあすなる会魁‼︎労務塾グループ2月例会
URL:https://tokachi-obihiro.doyu.jp/event/event29403/
CATEGORIES:行事予定告知
ATTACH;FMTTYPE=image/jpeg:https://tokachi-obihiro.doyu.jp/wp/wp-content/uploads/2017/12/thum_logo1.jpg
ORGANIZER;CN="%E5%8C%97%E6%B5%B7%E9%81%93%E4%B8%AD%E5%B0%8F%E4%BC%81%E6%A5%AD%E5%AE%B6%E5%90%8C%E5%8F%8B%E4%BC%9A%E3%81%A8%E3%81%8B%E3%81%A1%E6%94%AF%E9%83%A8":MAILTO:tokachi@hokkaido.doyu.jp
END:VEVENT
END:VCALENDAR