BEGIN:VCALENDAR
VERSION:2.0
PRODID:-//北海道中小企業家同友会とかち支部 - ECPv4.6.8//NONSGML v1.0//EN
CALSCALE:GREGORIAN
METHOD:PUBLISH
X-WR-CALNAME:北海道中小企業家同友会とかち支部
X-ORIGINAL-URL:https://tokachi-obihiro.doyu.jp
X-WR-CALDESC:Events for 北海道中小企業家同友会とかち支部
BEGIN:VEVENT
DTSTART;TZID=Asia/Tokyo:20260121T190000
DTEND;TZID=Asia/Tokyo:20260121T210000
DTSTAMP:20260425T120935
CREATED:20260116T020851Z
LAST-MODIFIED:20260116T021021Z
UID:29370-1769022000-1769029200@tokachi-obihiro.doyu.jp
SUMMARY:大樹・広尾地区会交流会　打合せ
DESCRIPTION:【テーマ】　地区会交流会打合せ \n◆と　き：１月２１日(水)１９：００～２１：００\n◆ところ：大樹町福祉センター小会議室（大樹町栄通２９）\n◆会　費：無料　※お食事のご用意はありません。 \n準備の関係上、1月20日（火）までに出欠回答をお願いします。\nお問い合わせは、同友会事務局まで。電話0155-22-3611（担当：小林） \nPDFはこちら \n大樹・広尾地区会交流会　打合せ
URL:https://tokachi-obihiro.doyu.jp/event/event29370/
LOCATION:大樹町栄通２９
CATEGORIES:行事予定告知
ATTACH;FMTTYPE=image/jpeg:https://tokachi-obihiro.doyu.jp/wp/wp-content/uploads/2017/12/thum_logo1.jpg
ORGANIZER;CN="%E5%8C%97%E6%B5%B7%E9%81%93%E4%B8%AD%E5%B0%8F%E4%BC%81%E6%A5%AD%E5%AE%B6%E5%90%8C%E5%8F%8B%E4%BC%9A%E3%81%A8%E3%81%8B%E3%81%A1%E6%94%AF%E9%83%A8":MAILTO:tokachi@hokkaido.doyu.jp
END:VEVENT
END:VCALENDAR