BEGIN:VCALENDAR
VERSION:2.0
PRODID:-//北海道中小企業家同友会とかち支部 - ECPv4.6.8//NONSGML v1.0//EN
CALSCALE:GREGORIAN
METHOD:PUBLISH
X-WR-CALNAME:北海道中小企業家同友会とかち支部
X-ORIGINAL-URL:https://tokachi-obihiro.doyu.jp
X-WR-CALDESC:Events for 北海道中小企業家同友会とかち支部
BEGIN:VEVENT
DTSTART;TZID=Asia/Tokyo:20180525T190000
DTEND;TZID=Asia/Tokyo:20180525T220000
DTSTAMP:20260424T135434
CREATED:20180514T060419Z
LAST-MODIFIED:20180514T060419Z
UID:2926-1527274800-1527285600@tokachi-obihiro.doyu.jp
SUMMARY:経営指針研究会Cグループ第3講
DESCRIPTION:◇日時：5月25日（金）19：00～22：00\n◇会場：同友会事務所(帯広市東2条南5丁目1）\n◇発表者：全員 \n【課　題】①～④まで提出して下さい\n　①自社の歴史と自分の歩みシート\n　②自社の歴史と自分の歩み検討シート\n　③フェイスシート\n　④年齢構成表\n　⑤労働環境分析シート（参考シート） \n経営指針研究会Cグループ第3講
URL:https://tokachi-obihiro.doyu.jp/event/event2926/
LOCATION:北海道帯広市東2条南5丁目1-1\, Japan
CATEGORIES:行事予定告知
ATTACH;FMTTYPE=image/jpeg:https://tokachi-obihiro.doyu.jp/wp/wp-content/uploads/2017/12/thum_logo1.jpg
END:VEVENT
END:VCALENDAR