BEGIN:VCALENDAR
VERSION:2.0
PRODID:-//北海道中小企業家同友会とかち支部 - ECPv4.6.8//NONSGML v1.0//EN
CALSCALE:GREGORIAN
METHOD:PUBLISH
X-WR-CALNAME:北海道中小企業家同友会とかち支部
X-ORIGINAL-URL:https://tokachi-obihiro.doyu.jp
X-WR-CALDESC:Events for 北海道中小企業家同友会とかち支部
BEGIN:VEVENT
DTSTART;TZID=Asia/Tokyo:20251028T150000
DTEND;TZID=Asia/Tokyo:20251028T163000
DTSTAMP:20260420T142939
CREATED:20251014T010954Z
LAST-MODIFIED:20251014T010954Z
UID:28732-1761663600-1761669000@tokachi-obihiro.doyu.jp
SUMMARY:十勝農商工連携部会 １０月例会
DESCRIPTION:【テーマ】\n  大学に酒蔵？地域と挑む“碧雲蔵”から学ぶ、新しい産学連携のカタチ \n【報告者・ご案内】\n  上川大雪酒造（株）　代表取締役副社長　総杜　川端　慎治　氏 \n帯広畜産大学の構内に、全国で初めて誕生した“大学の中の酒蔵”――その名も「碧雲蔵（へきうんぐら）」。\nここでは、大学の知見と民間の技術、そして地域の農畜産資源が一体となり、\nまったく新しい価値を生み出そうとしています。\n単なる酒造りではありません。\n学生の教育、酵母や原材料の研究、地域との連携、ブランド構築……\nすべてが“実践の場”として機能しており、まさに挑戦する酒蔵です。\n今回の例会では、碧雲蔵の挑戦や今後の展望についてお話を伺います。\n経営者にとって、ヒントとなる視点が詰まった場です。\nぜひご参加いただき、新しい価値創造のヒントを持ち帰ってください。 \n◆日　時：１０月２８日（火）　１５：００～１６：３０ \n◆会　場：上川大雪酒造 碧雲蔵（帯広市稲田町西２線１５−１） \n◆参加費：無料\n         ※試飲もご用意頂く予定です。試飲される方はお車でのご来場をお控えください。 \n問い合わせは同友会事務局まで。電話0155-22-3611\n準備の関係上、10月23日（木）までに出欠のご回答をお願いいたします。\n返信先FAX：0155-22-3612　　E-mail: tokachi@hokkaido.doyu.jp \nPDFはこちら \n十勝農商工連携部会 １０月例会
URL:https://tokachi-obihiro.doyu.jp/event/event28732/
LOCATION:北海道帯広市稲田町西２線１５−１\, Japan
CATEGORIES:行事予定告知
ATTACH;FMTTYPE=image/jpeg:https://tokachi-obihiro.doyu.jp/wp/wp-content/uploads/2017/12/thum_logo1.jpg
ORGANIZER;CN="%E5%8C%97%E6%B5%B7%E9%81%93%E4%B8%AD%E5%B0%8F%E4%BC%81%E6%A5%AD%E5%AE%B6%E5%90%8C%E5%8F%8B%E4%BC%9A%E3%81%A8%E3%81%8B%E3%81%A1%E6%94%AF%E9%83%A8":MAILTO:tokachi@hokkaido.doyu.jp
END:VEVENT
END:VCALENDAR