BEGIN:VCALENDAR
VERSION:2.0
PRODID:-//北海道中小企業家同友会とかち支部 - ECPv4.6.8//NONSGML v1.0//EN
CALSCALE:GREGORIAN
METHOD:PUBLISH
X-WR-CALNAME:北海道中小企業家同友会とかち支部
X-ORIGINAL-URL:https://tokachi-obihiro.doyu.jp
X-WR-CALDESC:Events for 北海道中小企業家同友会とかち支部
BEGIN:VEVENT
DTSTART;TZID=Asia/Tokyo:20250916T130000
DTEND;TZID=Asia/Tokyo:20250916T140000
DTSTAMP:20260420T131101
CREATED:20250825T015715Z
LAST-MODIFIED:20250825T015715Z
UID:28396-1758027600-1758031200@tokachi-obihiro.doyu.jp
SUMMARY:環境部会　第５回世話人会
DESCRIPTION:■と　き：９月１６日（火） １３：００～１４：００ \n■ところ：同友会事務所またはZoom\n　　　　　　　　　（帯広市東2条南5丁目1）\n　　　　　※会場・時間が前回と異なりますのでご注意ください！ \n■会　費：無料 \n■議題：①企画の振り返り\n　　　　②今後の企画について\n　　　　③その他 \n環境部会　第５回世話人会
URL:https://tokachi-obihiro.doyu.jp/event/event28396/
LOCATION:北海道帯広市東2条南5丁目1-1\, Japan
CATEGORIES:行事予定告知
ATTACH;FMTTYPE=image/jpeg:https://tokachi-obihiro.doyu.jp/wp/wp-content/uploads/2017/12/thum_logo1.jpg
ORGANIZER;CN="%E5%8C%97%E6%B5%B7%E9%81%93%E4%B8%AD%E5%B0%8F%E4%BC%81%E6%A5%AD%E5%AE%B6%E5%90%8C%E5%8F%8B%E4%BC%9A%E3%81%A8%E3%81%8B%E3%81%A1%E6%94%AF%E9%83%A8":MAILTO:tokachi@hokkaido.doyu.jp
END:VEVENT
END:VCALENDAR