BEGIN:VCALENDAR
VERSION:2.0
PRODID:-//北海道中小企業家同友会とかち支部 - ECPv4.6.8//NONSGML v1.0//EN
CALSCALE:GREGORIAN
METHOD:PUBLISH
X-WR-CALNAME:北海道中小企業家同友会とかち支部
X-ORIGINAL-URL:https://tokachi-obihiro.doyu.jp
X-WR-CALDESC:Events for 北海道中小企業家同友会とかち支部
BEGIN:VEVENT
DTSTART;TZID=Asia/Tokyo:20250920T100000
DTEND;TZID=Asia/Tokyo:20250920T140000
DTSTAMP:20260422T144508
CREATED:20250812T075331Z
LAST-MODIFIED:20250812T075512Z
UID:28369-1758362400-1758376800@tokachi-obihiro.doyu.jp
SUMMARY:あすなる会社長遊戯～継承への道～グループ９月例会
DESCRIPTION:【テーマ】「森づくりから学ぶ、両立思考の山林経営」　　　　 \n【講　師】株式会社　minotake　\n　　　　　川瀬　千尋　氏（川瀬不動産　代表取締役）\n　　　　　頓所　幹成　氏（クライマー　第一種猟銃免許　高等学校教諭一種免許） \n━━━━━━━━━━━━━━━━━━━━━━━\n■と　き：9月20日（土）例会　　10：00～12：00\n　　　　　　　　　　　　懇親会　12：00～14：00\n■ところ：山林　（株式会社minotake　所有）\n　　　　　幕別町栄２３９ー１付近　（帯広から２５分程度）\n━━━━━━━━━━━━━━━━━━━━━━━ \n9月例会は、十勝を拠点に森づくりや高木伐採を手掛ける 株式会社 minotake の\n川瀨氏・頓所氏を講師にお迎えし、minotake所有の山林で野外開催いたします。 \n【当日の主なテーマ】\n山林は“超長期の資産運用” — 時間軸と収益構造の捉え方\n複業型経営スタイル — 森林資源に依存しすぎないビジネスモデル\n森づくりに学ぶ両立思考とリスクヘッジ — 持続可能な経営へのヒント \n【実技体験】\n昔ながらの道具を用いた 樹木の伐採体験 \n【懇親会】\n例会終了後、現地で バーベキュー懇親会 を開催\n鹿肉もご用意しています。 \n※雨天時は別施設開催予定　別途お知らせ致します。 \n※9月10日（水）までに出欠の回答をお願い致します。 \nあすなる会社長遊戯～継承への道～グループ９月例会
URL:https://tokachi-obihiro.doyu.jp/event/event28369/
LOCATION:北海道中川郡幕別町栄２３９−１\, Japan
CATEGORIES:行事予定告知
ATTACH;FMTTYPE=image/jpeg:https://tokachi-obihiro.doyu.jp/wp/wp-content/uploads/2017/12/thum_logo1.jpg
ORGANIZER;CN="%E5%8C%97%E6%B5%B7%E9%81%93%E4%B8%AD%E5%B0%8F%E4%BC%81%E6%A5%AD%E5%AE%B6%E5%90%8C%E5%8F%8B%E4%BC%9A%E3%81%A8%E3%81%8B%E3%81%A1%E6%94%AF%E9%83%A8":MAILTO:tokachi@hokkaido.doyu.jp
END:VEVENT
END:VCALENDAR