BEGIN:VCALENDAR
VERSION:2.0
PRODID:-//北海道中小企業家同友会とかち支部 - ECPv4.6.8//NONSGML v1.0//EN
CALSCALE:GREGORIAN
METHOD:PUBLISH
X-WR-CALNAME:北海道中小企業家同友会とかち支部
X-ORIGINAL-URL:https://tokachi-obihiro.doyu.jp
X-WR-CALDESC:Events for 北海道中小企業家同友会とかち支部
BEGIN:VEVENT
DTSTART;TZID=Asia/Tokyo:20250918T190000
DTEND;TZID=Asia/Tokyo:20250918T210000
DTSTAMP:20260424T160155
CREATED:20250812T071931Z
LAST-MODIFIED:20250812T071931Z
UID:28366-1758222000-1758229200@tokachi-obihiro.doyu.jp
SUMMARY:あすなる会ビジネスイノベーショングループ9月例会
DESCRIPTION:【テーマ】事業計画作成 \n【報告者】公益財団法人とかち財団　\n　　　　　事業創発グループ　課長　髙橋　司　氏\n　　　　　　　　　　　（LAND コーディネーター） \n━━━━━━━━━━━━━━━━━━━━━━━━━━━━\n■日　時：9月18日（木）19：00～21：00\n■会　場：とかちプラザ　（帯広市西4条南13丁目1）\n※今回ZOOMのご用意はありません。\n━━━━━━━━━━━━━━━━━━━━━━━━━━━━ \n第4回となる例会では、とかち財団　Landより高橋様をお招きし、\n新規事業プレゼンの基本構成を学びます。 \n新規事業のプレゼンテーションは、事業の成功を左右する重要な要素です。\n社内外に事業内容を理解させ、共感と指示を得ることで事業計画を円滑に\n進めることができます。 \n効果的なプレゼンテーションは、新規事業の実現可能性を高め、持続的な成長を\n促すために不可欠です。 \nこれからのグループ例会に繋がる例会になっております。 \n※9月12日（金）までに出欠の回答をお願い致します。 \nあすなる会ビジネスイノベーショングループ9月例会
URL:https://tokachi-obihiro.doyu.jp/event/event28366/
LOCATION:帯広市西4条南13丁目1\, 帯広市\, 北海道\, Japan
CATEGORIES:行事予定告知
ATTACH;FMTTYPE=image/jpeg:https://tokachi-obihiro.doyu.jp/wp/wp-content/uploads/2017/12/thum_logo1.jpg
ORGANIZER;CN="%E5%8C%97%E6%B5%B7%E9%81%93%E4%B8%AD%E5%B0%8F%E4%BC%81%E6%A5%AD%E5%AE%B6%E5%90%8C%E5%8F%8B%E4%BC%9A%E3%81%A8%E3%81%8B%E3%81%A1%E6%94%AF%E9%83%A8":MAILTO:tokachi@hokkaido.doyu.jp
END:VEVENT
END:VCALENDAR