BEGIN:VCALENDAR
VERSION:2.0
PRODID:-//北海道中小企業家同友会とかち支部 - ECPv4.6.8//NONSGML v1.0//EN
CALSCALE:GREGORIAN
METHOD:PUBLISH
X-WR-CALNAME:北海道中小企業家同友会とかち支部
X-ORIGINAL-URL:https://tokachi-obihiro.doyu.jp
X-WR-CALDESC:Events for 北海道中小企業家同友会とかち支部
BEGIN:VEVENT
DTSTART;TZID=Asia/Tokyo:20250906T093000
DTEND;TZID=Asia/Tokyo:20250907T113000
DTSTAMP:20260423T111932
CREATED:20250711T005738Z
LAST-MODIFIED:20250711T005738Z
UID:28162-1757151000-1757244600@tokachi-obihiro.doyu.jp
SUMMARY:経営指針研究会第7講・一泊研修会
DESCRIPTION:■日　時：9月6日（土）9：30～9月7日（日）11：30\n■会　場：ホテル風水（鹿追町然別湖畔）\n■参加費：3～5名1室　22\,000円（1泊朝食＆昼食＆懇親会）\n　　　　　シングル　 27\,000円（1泊朝食＆昼食＆懇親会）\n　　　　　 2名1室　23\,000円（1泊朝食＆昼食＆懇親会）\n　　　　　懇親会まで 11\,000円（昼食＆懇親会）\n　　　　　研修会のみ　2\,000円（昼食）\n　　　　　※参加費は当日集金します。\n　　　　　※お部屋の数に限りがございます（全14室）。状況により、\n　　　　　　複数人のお部屋でのご利用をご相談させていただく場合がございます。\n【提出物】\n　①経営理念 検討シート\n　②１０年ビジョン 検討シート\n　③フェイスシート\n　④自社の歴史と自分の歩みシート\n　⑤自社の歴史と自分の歩み検討シート\n　※修正がある方は再提出して下さい。\n　※当日資料として印刷・配布します。\n【提出締切】\n　9月1日（月）\n【タイムスケジュール・予定】\n　9月6日（土）\n　　 9：30　発表（4名）\n　　12：00　昼食\n　　13：00　発表（6名）\n　　17：00　終了・チェックイン\n　　18：30　懇親会\n　　20：30　懇親会終了、二次会･･･\n　9月7日（日）\n　　 9：30　財務講座\n　　11：30　終了\n「午後から参加」「午前で退席」「昼食不要」「財務講座欠席」など特記事項がある方は連絡欄にご記入ください。\n【発表方法】\n●発表10分、質疑応答20分\n●発表は経営理念と10年ビジョンに重きを置き、シートの説明ではなく、自分の想いを語ることを意識して下さい。\n●シート作成で、悩んでいる点や気がかりな点がある方は、そのことも発表の中でお話下さい。\n●フェイスシートや歩みシートは４ヶ月ぶりにお会いする他グループの方用の資料です。説明は不要です。 \n経営指針研究会第7講・一泊研修会
URL:https://tokachi-obihiro.doyu.jp/event/event28162/
LOCATION:鹿追町然別湖畔\, 北海道\, Japan
CATEGORIES:行事予定告知
ATTACH;FMTTYPE=image/jpeg:https://tokachi-obihiro.doyu.jp/wp/wp-content/uploads/2017/12/thum_logo1.jpg
ORGANIZER;CN="%E5%8C%97%E6%B5%B7%E9%81%93%E4%B8%AD%E5%B0%8F%E4%BC%81%E6%A5%AD%E5%AE%B6%E5%90%8C%E5%8F%8B%E4%BC%9A%E3%81%A8%E3%81%8B%E3%81%A1%E6%94%AF%E9%83%A8":MAILTO:tokachi@hokkaido.doyu.jp
END:VEVENT
END:VCALENDAR