BEGIN:VCALENDAR
VERSION:2.0
PRODID:-//北海道中小企業家同友会とかち支部 - ECPv4.6.8//NONSGML v1.0//EN
CALSCALE:GREGORIAN
METHOD:PUBLISH
X-WR-CALNAME:北海道中小企業家同友会とかち支部
X-ORIGINAL-URL:https://tokachi-obihiro.doyu.jp
X-WR-CALDESC:Events for 北海道中小企業家同友会とかち支部
BEGIN:VEVENT
DTSTART;TZID=Asia/Tokyo:20250718T190000
DTEND;TZID=Asia/Tokyo:20250718T210000
DTSTAMP:20260423T142706
CREATED:20250709T010247Z
LAST-MODIFIED:20250709T010247Z
UID:28145-1752865200-1752872400@tokachi-obihiro.doyu.jp
SUMMARY:第2回スタートアップ委員会
DESCRIPTION:■日　時：7月18日（金）19：00～21：00\n■会　場：同友会事務所（帯広市東2条南5丁目1）\n【議 題】\n・第1回いろはの会の振り返り\n・第1回新会員ガイダンスに向けて\n・今後の活動について\n・その他 \n第2回スタートアップ委員会
URL:https://tokachi-obihiro.doyu.jp/event/event28145/
LOCATION:帯広市東２条南５−１\, 帯広市\, 北海道\, 080-0802\, Japan
CATEGORIES:行事予定告知
ATTACH;FMTTYPE=image/jpeg:https://tokachi-obihiro.doyu.jp/wp/wp-content/uploads/2017/12/thum_logo1.jpg
ORGANIZER;CN="%E5%8C%97%E6%B5%B7%E9%81%93%E4%B8%AD%E5%B0%8F%E4%BC%81%E6%A5%AD%E5%AE%B6%E5%90%8C%E5%8F%8B%E4%BC%9A%E3%81%A8%E3%81%8B%E3%81%A1%E6%94%AF%E9%83%A8":MAILTO:tokachi@hokkaido.doyu.jp
END:VEVENT
END:VCALENDAR