BEGIN:VCALENDAR
VERSION:2.0
PRODID:-//北海道中小企業家同友会とかち支部 - ECPv4.6.8//NONSGML v1.0//EN
CALSCALE:GREGORIAN
METHOD:PUBLISH
X-WR-CALNAME:北海道中小企業家同友会とかち支部
X-ORIGINAL-URL:https://tokachi-obihiro.doyu.jp
X-WR-CALDESC:Events for 北海道中小企業家同友会とかち支部
BEGIN:VEVENT
DTSTART;TZID=Asia/Tokyo:20180620T190000
DTEND;TZID=Asia/Tokyo:20180620T210000
DTSTAMP:20260425T121906
CREATED:20180426T014804Z
LAST-MODIFIED:20180426T014804Z
UID:2813-1529521200-1529528400@tokachi-obihiro.doyu.jp
SUMMARY:農業経営部会６月例会（農業経営・法人化グループ）
DESCRIPTION:◇日時：６月２０日(水)１９：００～２１:００ \n◇会場：同友会事務所（帯広市東2条南5丁目1） \n◇参加費：無料　※終了後に講師を囲む会を開催します \n◇テーマ：金融機関から見た農業法人のメリット、デメリット \n◇講師：北海道銀行　音更支店　支店長　中島　英利　氏 \nPDFはこちら \n農業経営部会６月例会（農業経営・法人化グループ）
URL:https://tokachi-obihiro.doyu.jp/event/event2813/
LOCATION:北海道帯広市東2条南5丁目1-1\, Japan
CATEGORIES:行事予定告知
ATTACH;FMTTYPE=image/jpeg:https://tokachi-obihiro.doyu.jp/wp/wp-content/uploads/2017/12/thum_logo1.jpg
END:VEVENT
END:VCALENDAR