BEGIN:VCALENDAR
VERSION:2.0
PRODID:-//北海道中小企業家同友会とかち支部 - ECPv4.6.8//NONSGML v1.0//EN
CALSCALE:GREGORIAN
METHOD:PUBLISH
X-WR-CALNAME:北海道中小企業家同友会とかち支部
X-ORIGINAL-URL:https://tokachi-obihiro.doyu.jp
X-WR-CALDESC:Events for 北海道中小企業家同友会とかち支部
BEGIN:VEVENT
DTSTART;TZID=Asia/Tokyo:20250717T190000
DTEND;TZID=Asia/Tokyo:20250717T210000
DTSTAMP:20260425T164451
CREATED:20250613T074959Z
LAST-MODIFIED:20250613T075249Z
UID:27996-1752778800-1752786000@tokachi-obihiro.doyu.jp
SUMMARY:人生大学７月例会
DESCRIPTION:【テーマ】挫折と今 \n【話題提供者】（株）創険　代表取締役　坂本　健和　氏 \n  \n■日　時：７月１７日（木）１９：００～２１：００ \n■会　場：鶯（うぐいす）（帯広市西1条南9丁目12−1 2F、℡：0155-26-3314） \n■会　費：４\,０００円（お食事代として） \n※当日キャンセルは会費を申し受けますことをご了承ください。\n※領収書はお店からの発行。 \n坂本氏は釧路生まれ白糠町育ち。\n学生時代は陸上競技に打ち込み、全国を舞台に活躍、努力を重ねてきました。\n2019年に（株）創険を設立し、現在は12名の社員と共に、\n帯広を拠点に総合保険代理業務やカーリース・レンタカー事業を展開しています。\n陸上競技で味わった挫折。\nそこから立ち上がり、自らの価値観と真摯に向き合いながら築いてきた現在の会社。\n「保険で守れる人がいる」その信念を胸に、「お客様の今と未来を守りたい」\n「社員に、この会社・業界に入ってよかったと思ってもらいたい」と語る坂本氏。\n過去の挫折と今見据える未来。\nその軌跡を、皆さまと共に分かち合うひとときにできればと願っております。\n人生大学らしい和やかな雰囲気の中で、お話をじっくりと伺ってまいります。\n皆さまのご参加を、心よりお待ち申し上げております。 \n※会場準備の都合上、7月14日(月)までに出欠回答をお願いします。\n※お問い合わせは、同友会事務局（担当：北村）まで。電話0155-22-3611 \nPDFはこちら \n人生大学７月例会
URL:https://tokachi-obihiro.doyu.jp/event/event27996/
LOCATION:西1条南9丁目12-1　帯広市西1条南9丁目12-1　CALIFORNIA HARVEST　2階\, Japan
CATEGORIES:行事予定告知
ATTACH;FMTTYPE=image/jpeg:https://tokachi-obihiro.doyu.jp/wp/wp-content/uploads/2017/12/thum_logo1.jpg
ORGANIZER;CN="%E5%8C%97%E6%B5%B7%E9%81%93%E4%B8%AD%E5%B0%8F%E4%BC%81%E6%A5%AD%E5%AE%B6%E5%90%8C%E5%8F%8B%E4%BC%9A%E3%81%A8%E3%81%8B%E3%81%A1%E6%94%AF%E9%83%A8":MAILTO:tokachi@hokkaido.doyu.jp
END:VEVENT
END:VCALENDAR