BEGIN:VCALENDAR
VERSION:2.0
PRODID:-//北海道中小企業家同友会とかち支部 - ECPv4.6.8//NONSGML v1.0//EN
CALSCALE:GREGORIAN
METHOD:PUBLISH
X-WR-CALNAME:北海道中小企業家同友会とかち支部
X-ORIGINAL-URL:https://tokachi-obihiro.doyu.jp
X-WR-CALDESC:Events for 北海道中小企業家同友会とかち支部
BEGIN:VEVENT
DTSTART;TZID=Asia/Tokyo:20180525T190000
DTEND;TZID=Asia/Tokyo:20180525T210000
DTSTAMP:20260422T141755
CREATED:20180423T062711Z
LAST-MODIFIED:20180423T062711Z
UID:2787-1527274800-1527282000@tokachi-obihiro.doyu.jp
SUMMARY:あすなる会情報力探求グループ５月例会
DESCRIPTION:日　時：５月２５日(金)１９：００～２１：００ \n場　所：とかちプラザ４０３ \nテーマ： 情報の重要性について \n内　容 : 他己紹介＋知識共有(弱者が強者に勝つ方法) \nPDFはこちら \n  \nあすなる会情報力探求グループ５月例会
URL:https://tokachi-obihiro.doyu.jp/event/event2787/
LOCATION:北海道帯広市西4条南13丁目1\, Japan
CATEGORIES:行事予定告知
ATTACH;FMTTYPE=image/jpeg:https://tokachi-obihiro.doyu.jp/wp/wp-content/uploads/2017/12/thum_logo1.jpg
END:VEVENT
END:VCALENDAR