BEGIN:VCALENDAR
VERSION:2.0
PRODID:-//北海道中小企業家同友会とかち支部 - ECPv4.6.8//NONSGML v1.0//EN
CALSCALE:GREGORIAN
METHOD:PUBLISH
X-WR-CALNAME:北海道中小企業家同友会とかち支部
X-ORIGINAL-URL:https://tokachi-obihiro.doyu.jp
X-WR-CALDESC:Events for 北海道中小企業家同友会とかち支部
BEGIN:VEVENT
DTSTART;TZID=Asia/Tokyo:20250619T190000
DTEND;TZID=Asia/Tokyo:20250619T210000
DTSTAMP:20260425T175730
CREATED:20250603T074801Z
LAST-MODIFIED:20250604T022545Z
UID:27847-1750359600-1750366800@tokachi-obihiro.doyu.jp
SUMMARY:拓の会 第5グループ（持ち味を活かす職場づくりを考える） 6月例会
DESCRIPTION:■テーマ：私のトリセツと私　～岡村正治編～\n■話題提供者：（株）安藤建設 代表取締役 岡村 正治 氏\n■日　時：6月19日（木）19：00～21：00\n■会　場：同友会事務所B (帯広市東２条南５丁目１)またはZoom \n拓の会 第5グループ（持ち味を活かす職場づくりを考える） 6月例会
URL:https://tokachi-obihiro.doyu.jp/event/event27847/
LOCATION:北海道帯広市東2条南5丁目1-1\, Japan
CATEGORIES:行事予定告知
ATTACH;FMTTYPE=image/jpeg:https://tokachi-obihiro.doyu.jp/wp/wp-content/uploads/2017/12/thum_logo1.jpg
ORGANIZER;CN="%E5%8C%97%E6%B5%B7%E9%81%93%E4%B8%AD%E5%B0%8F%E4%BC%81%E6%A5%AD%E5%AE%B6%E5%90%8C%E5%8F%8B%E4%BC%9A%E3%81%A8%E3%81%8B%E3%81%A1%E6%94%AF%E9%83%A8":MAILTO:tokachi@hokkaido.doyu.jp
END:VEVENT
END:VCALENDAR