BEGIN:VCALENDAR
VERSION:2.0
PRODID:-//北海道中小企業家同友会とかち支部 - ECPv4.6.8//NONSGML v1.0//EN
CALSCALE:GREGORIAN
METHOD:PUBLISH
X-WR-CALNAME:北海道中小企業家同友会とかち支部
X-ORIGINAL-URL:https://tokachi-obihiro.doyu.jp
X-WR-CALDESC:Events for 北海道中小企業家同友会とかち支部
BEGIN:VEVENT
DTSTART;TZID=Asia/Tokyo:20250623T190000
DTEND;TZID=Asia/Tokyo:20250623T210000
DTSTAMP:20260421T141412
CREATED:20250530T085051Z
LAST-MODIFIED:20250530T085051Z
UID:27811-1750705200-1750712400@tokachi-obihiro.doyu.jp
SUMMARY:とかち支部６月例会
DESCRIPTION:■テーマ／ますや×インデアン\n　　　　　熱いコラボが生んだ共育のカタチ \n■報告者／（株）満寿屋商店　代表取締役　杉山　雅則　氏\n　　　　　　　　　　　　　　常務取締役　天方　慎治　氏\n　　　　　【創業】1950年　【正社員】68名　【パート・アルバイト】124名\n　　　　　【事業内容】パン製造販売 \n　　　　　（株）藤森商会　代表取締役社長　藤森　康容　氏\n　　　　　　　　　　　　　総務部 総務課長 佐藤　元基　氏\n　　　　　【創業】1899年　【正社員】98名　【パート・アルバイト】213名\n　　　　　【事業内容】「ふじもり」「インデアン」運営 \n  \n「十勝のソウルフードがつなぐ地域愛―若手社員育成で実現した異業種コラボ」\n十勝の老舗企業2社が、業界の垣根を越えた“共育”の実践に挑みました。\n今回の異業種コラボ、その目的は―若手社員の育成。コラボを通じて現場では、\nどのような変化が起きたのでしょうか？\n今回は、両社の経営トップと社員が登壇し、リアルな経験を語ります。\n地域に根ざす企業同士が描く“共に育つ”人づくりのカタチ。\n十勝発の新たな学びに、ぜひご参加ください。 \n━━━━━━━━━━━━━━━━━━━━━━━\n■日　時：6月23日（月）19：00～21：00\n■会　場：とかち館（帯広市西7条南6丁目2）\n　　　　　またはZoom参加\n■会　費：一社1\,000円\n・未会員3回まで無料・4回目以降3\,000円\n・Zoomの方は後日請求書をお送りします。\n・当日のキャンセルは会費を申し受けます。\n・前日までにZoomIDと資料をお送りします。\n━━━━━━━━━━━━━━━━━━━━━━━\n申込締切：6/20（金）\n締切後の申込みもお受けしております。事務局（TEL0155-22-3611）まで直接お問合せ下さい。 \n※まだ入会していない、お知り合いの経営者を誘って是非一緒にご参加下さい。 \nPDFはこちら \nとかち支部６月例会
URL:https://tokachi-obihiro.doyu.jp/event/event27811/
LOCATION:北海道帯広市西７条南６丁目２\, Japan
CATEGORIES:行事予定告知
ATTACH;FMTTYPE=image/jpeg:https://tokachi-obihiro.doyu.jp/wp/wp-content/uploads/2017/12/thum_logo1.jpg
ORGANIZER;CN="%E5%8C%97%E6%B5%B7%E9%81%93%E4%B8%AD%E5%B0%8F%E4%BC%81%E6%A5%AD%E5%AE%B6%E5%90%8C%E5%8F%8B%E4%BC%9A%E3%81%A8%E3%81%8B%E3%81%A1%E6%94%AF%E9%83%A8":MAILTO:tokachi@hokkaido.doyu.jp
END:VEVENT
END:VCALENDAR