BEGIN:VCALENDAR
VERSION:2.0
PRODID:-//北海道中小企業家同友会とかち支部 - ECPv4.6.8//NONSGML v1.0//EN
CALSCALE:GREGORIAN
METHOD:PUBLISH
X-WR-CALNAME:北海道中小企業家同友会とかち支部
X-ORIGINAL-URL:https://tokachi-obihiro.doyu.jp
X-WR-CALDESC:Events for 北海道中小企業家同友会とかち支部
BEGIN:VEVENT
DTSTART;TZID=Asia/Tokyo:20250410T180000
DTEND;TZID=Asia/Tokyo:20250410T210000
DTSTAMP:20260422T102925
CREATED:20250318T054602Z
LAST-MODIFIED:20250318T054602Z
UID:27290-1744308000-1744318800@tokachi-obihiro.doyu.jp
SUMMARY:十勝農商工連携部会 2025年度定時総会
DESCRIPTION:総会では2024年度の活動等を振り返るほか、2025年度の活動方針案などを審議致します。\nまた記念講演では、十勝シティデザイン(株)　創業者の柏尾 哲哉氏にご講演頂きます。\n◆と　き／４月10日（木）　18:00～21:00\n◆ところ／ふく井ホテル（帯広市西１条南１１丁目１９−１）\n◆参加費／ 講演会のみ参加…部会員：無料　部会外：1\,000円（総会のみは無料）\n懇親会まで参加：5\,500円 （飲食代として。領収証はお店からを予定）\n※締切日以降の懇親会キャンセルは会費が発生する場合があります。ご了承願います。\n★部会外の方でも、総会の際にご入会いただくと講演会費が無料になります。\n　是非、共に学び、実践しましょう！\n【タイムテーブル（予定）】\n＜第１部：定時総会＞　18:00～18:30\n＜第２部：記念講演＞　18:30～19:30\nテーマ： 「フードバリューチェーン」×「関係人口」×「中心市街地再生」で十勝が日本のフロンティアとなる\n       ―「ホテルで街を作る」HOTEL NUPKAの取り組み ―\n報告者：十勝シティデザイン(株)　創業者　柏尾 哲哉 氏\n＜第３部　懇 親 会＞　19:30～21:00\n（お願い）当日、十勝農商工連携部会会員は年会費10\,000円(予定)を申し受けます。\n※食事手配の都合上　4月3日(木)までに出欠回答をお願いします。\n※お問い合わせは、同友会事務局まで。電話0155-22-3611 \nPDFはこちら \n十勝農商工連携部会 2025年度定時総会
URL:https://tokachi-obihiro.doyu.jp/event/event27290/
LOCATION:帯広市西1条南11丁目19\, Japan
CATEGORIES:行事予定告知
ATTACH;FMTTYPE=image/jpeg:https://tokachi-obihiro.doyu.jp/wp/wp-content/uploads/2017/12/thum_logo1.jpg
ORGANIZER;CN="%E5%8C%97%E6%B5%B7%E9%81%93%E4%B8%AD%E5%B0%8F%E4%BC%81%E6%A5%AD%E5%AE%B6%E5%90%8C%E5%8F%8B%E4%BC%9A%E3%81%A8%E3%81%8B%E3%81%A1%E6%94%AF%E9%83%A8":MAILTO:tokachi@hokkaido.doyu.jp
END:VEVENT
END:VCALENDAR