BEGIN:VCALENDAR
VERSION:2.0
PRODID:-//北海道中小企業家同友会とかち支部 - ECPv4.6.8//NONSGML v1.0//EN
CALSCALE:GREGORIAN
METHOD:PUBLISH
X-WR-CALNAME:北海道中小企業家同友会とかち支部
X-ORIGINAL-URL:https://tokachi-obihiro.doyu.jp
X-WR-CALDESC:Events for 北海道中小企業家同友会とかち支部
BEGIN:VEVENT
DTSTART;TZID=Asia/Tokyo:20250326T173000
DTEND;TZID=Asia/Tokyo:20250326T190000
DTSTAMP:20260421T154545
CREATED:20250314T051500Z
LAST-MODIFIED:20250314T051500Z
UID:27253-1743010200-1743015600@tokachi-obihiro.doyu.jp
SUMMARY:第8回とかち支部50周年打ち合わせ会議
DESCRIPTION:日時：3月26日（水）17：30～19：00\n会場：同友会とかち支部事務所/zoom \nJoin Zoom Meeting\nhttps://us06web.zoom.us/j/89691295895\nミーティング ID: 896 9129 5895\nパスコード: 747963 \n以上です。宜しくお願い致します。 \n第8回とかち支部50周年打ち合わせ会議
URL:https://tokachi-obihiro.doyu.jp/event/event27253/
LOCATION:北海道帯広市東2条南5丁目1-1\, Japan
CATEGORIES:行事予定告知
ATTACH;FMTTYPE=image/jpeg:https://tokachi-obihiro.doyu.jp/wp/wp-content/uploads/2017/12/thum_logo1.jpg
ORGANIZER;CN="%E5%8C%97%E6%B5%B7%E9%81%93%E4%B8%AD%E5%B0%8F%E4%BC%81%E6%A5%AD%E5%AE%B6%E5%90%8C%E5%8F%8B%E4%BC%9A%E3%81%A8%E3%81%8B%E3%81%A1%E6%94%AF%E9%83%A8":MAILTO:tokachi@hokkaido.doyu.jp
END:VEVENT
END:VCALENDAR