BEGIN:VCALENDAR
VERSION:2.0
PRODID:-//北海道中小企業家同友会とかち支部 - ECPv4.6.8//NONSGML v1.0//EN
CALSCALE:GREGORIAN
METHOD:PUBLISH
X-WR-CALNAME:北海道中小企業家同友会とかち支部
X-ORIGINAL-URL:https://tokachi-obihiro.doyu.jp
X-WR-CALDESC:Events for 北海道中小企業家同友会とかち支部
BEGIN:VEVENT
DTSTART;TZID=Asia/Tokyo:20250312T190000
DTEND;TZID=Asia/Tokyo:20250312T210000
DTSTAMP:20260421T130705
CREATED:20250220T014203Z
LAST-MODIFIED:20250220T014203Z
UID:27054-1741806000-1741813200@tokachi-obihiro.doyu.jp
SUMMARY:第11回広報委員会
DESCRIPTION:■会合名：第11回広報委員会\n■日　時：2025年3月12日（水）19：00～20：30\n■会　場：同友会とかち支部事務所（帯広市東2条南5丁目）またはzoom\n■主な議題\n1）次年度に向けて\n2）支部SNSについて\n3）地区会報告アップ作業\n4）その他 \n第11回広報委員会
URL:https://tokachi-obihiro.doyu.jp/event/event27054/
LOCATION:北海道帯広市東2条南5丁目1-1\, Japan
CATEGORIES:行事予定告知
ATTACH;FMTTYPE=image/jpeg:https://tokachi-obihiro.doyu.jp/wp/wp-content/uploads/2017/12/thum_logo1.jpg
ORGANIZER;CN="%E5%8C%97%E6%B5%B7%E9%81%93%E4%B8%AD%E5%B0%8F%E4%BC%81%E6%A5%AD%E5%AE%B6%E5%90%8C%E5%8F%8B%E4%BC%9A%E3%81%A8%E3%81%8B%E3%81%A1%E6%94%AF%E9%83%A8":MAILTO:tokachi@hokkaido.doyu.jp
END:VEVENT
END:VCALENDAR