BEGIN:VCALENDAR
VERSION:2.0
PRODID:-//北海道中小企業家同友会とかち支部 - ECPv4.6.8//NONSGML v1.0//EN
CALSCALE:GREGORIAN
METHOD:PUBLISH
X-WR-CALNAME:北海道中小企業家同友会とかち支部
X-ORIGINAL-URL:https://tokachi-obihiro.doyu.jp
X-WR-CALDESC:Events for 北海道中小企業家同友会とかち支部
BEGIN:VEVENT
DTSTART;TZID=Asia/Tokyo:20250225T190000
DTEND;TZID=Asia/Tokyo:20250225T210000
DTSTAMP:20260422T144600
CREATED:20250203T020700Z
LAST-MODIFIED:20250203T020700Z
UID:26942-1740510000-1740517200@tokachi-obihiro.doyu.jp
SUMMARY:青年経営者の会第9回世話人会（新旧合同）
DESCRIPTION:下記の通り2024年度第9回世話人会を開催します。\n今回より新年度の世話人の皆様にもご案内し、新旧合同で開催します。\nぜひともご出席をお願いします。\n■日時：2月25日（火）19：00～21：00\n■会場：同友会とかち事務所 (帯広市東２条南５丁目１)\n　　　 またはZoom参加\n■議題\n　１）第11回例会に向けて\n　２）第12回例会（卒業セレモニー）に向けて\n　３）新年度に向けて\n　４）その他 \n青年経営者の会第9回世話人会（新旧合同）
URL:https://tokachi-obihiro.doyu.jp/event/event26942/
LOCATION:北海道帯広市東2条南5丁目1-1\, Japan
CATEGORIES:行事予定告知
ATTACH;FMTTYPE=image/jpeg:https://tokachi-obihiro.doyu.jp/wp/wp-content/uploads/2017/12/thum_logo1.jpg
ORGANIZER;CN="%E5%8C%97%E6%B5%B7%E9%81%93%E4%B8%AD%E5%B0%8F%E4%BC%81%E6%A5%AD%E5%AE%B6%E5%90%8C%E5%8F%8B%E4%BC%9A%E3%81%A8%E3%81%8B%E3%81%A1%E6%94%AF%E9%83%A8":MAILTO:tokachi@hokkaido.doyu.jp
END:VEVENT
END:VCALENDAR