BEGIN:VCALENDAR
VERSION:2.0
PRODID:-//北海道中小企業家同友会とかち支部 - ECPv4.6.8//NONSGML v1.0//EN
CALSCALE:GREGORIAN
METHOD:PUBLISH
X-WR-CALNAME:北海道中小企業家同友会とかち支部
X-ORIGINAL-URL:https://tokachi-obihiro.doyu.jp
X-WR-CALDESC:Events for 北海道中小企業家同友会とかち支部
BEGIN:VEVENT
DTSTART;TZID=Asia/Tokyo:20250225T190000
DTEND;TZID=Asia/Tokyo:20250225T210000
DTSTAMP:20260424T171621
CREATED:20250131T043652Z
LAST-MODIFIED:20250131T043652Z
UID:26925-1740510000-1740517200@tokachi-obihiro.doyu.jp
SUMMARY:十勝農商工連携部会　２月例会
DESCRIPTION:【テーマ】\n宇宙への道～宇宙遊覧の定着を目指した取り組み～\n【報告者】\n(株)岩谷技研　課長／パイロット 三木　将貴　氏 \n岩谷技研（本社：江別市）では、気球による宇宙遊覧フライトを目指しています。\n2024年の7月には、気球による有人飛行で過去最高となる、最大到達高度20\,816mの成層圏に到達しました。\n例会では、同社でパイロットを務める三木氏から、同社のチャレンジ精神あふれる取組と今後の展望を伺います！\n宇宙産業振興が叫ばれるこの十勝の地で、私たちに何が出来るかを考える機会にできればと存じます。\nこの機会に是非ご参加ください。 \n◆日　時：２月２５日（火）　１９：００～２１：００\n◆会　場：同友会事務所（帯広市東2条南5丁目1）またはZoom\n◆参加費：無料\n問い合わせは同友会事務局まで。電話0155-22-3611\n準備の関係上、2月20日（木）までに出欠のご回答をお願いいたします。 \nPDFはこちら \n十勝農商工連携部会　２月例会
URL:https://tokachi-obihiro.doyu.jp/event/event26925/
LOCATION:北海道帯広市東2条南5丁目1-1\, Japan
CATEGORIES:行事予定告知
ATTACH;FMTTYPE=image/jpeg:https://tokachi-obihiro.doyu.jp/wp/wp-content/uploads/2017/12/thum_logo1.jpg
ORGANIZER;CN="%E5%8C%97%E6%B5%B7%E9%81%93%E4%B8%AD%E5%B0%8F%E4%BC%81%E6%A5%AD%E5%AE%B6%E5%90%8C%E5%8F%8B%E4%BC%9A%E3%81%A8%E3%81%8B%E3%81%A1%E6%94%AF%E9%83%A8":MAILTO:tokachi@hokkaido.doyu.jp
END:VEVENT
END:VCALENDAR