BEGIN:VCALENDAR
VERSION:2.0
PRODID:-//北海道中小企業家同友会とかち支部 - ECPv4.6.8//NONSGML v1.0//EN
CALSCALE:GREGORIAN
METHOD:PUBLISH
X-WR-CALNAME:北海道中小企業家同友会とかち支部
X-ORIGINAL-URL:https://tokachi-obihiro.doyu.jp
X-WR-CALDESC:Events for 北海道中小企業家同友会とかち支部
BEGIN:VEVENT
DTSTART;TZID=Asia/Tokyo:20250213T190000
DTEND;TZID=Asia/Tokyo:20250213T210000
DTSTAMP:20260422T141928
CREATED:20250130T011310Z
LAST-MODIFIED:20250130T011619Z
UID:26875-1739473200-1739480400@tokachi-obihiro.doyu.jp
SUMMARY:女性部会２月例会
DESCRIPTION:仕事をしながらしなやかに生きる女性はたくさんの役割を抱えています。\n家庭や子育てやパートナーとの両立、みんなどうしてる！？\n女性ならではの仕事や私生活の悩み、あの人のうまくいっているコツはなんだろう？\nパワーの源は？クッキーを食べながらいろいろおしゃべりしませんか？\n■日　時：2月13日（木） 19：00～21：00　\n■会　場：北海道中小企業家同友会とかち支部事務所(帯広市東2条南5丁目1)\n■参加費：500円\n■締　切：2月10日（月）\n＜プログラム＞\n19：00　パネルディスカッション\n　　　　『仕事と家庭、プライベートの両立どう保ってる！？』\nパネリスト\n　・的場　衣織　氏　（株）ラーナロット　代表取締役\n　・久保　真澄　氏　　サンビーム興産(有)　代表取締役\nコーディネーター\n　・内山　美華　氏　（株）内山企画会社　代表取締役\n20：00　質疑応答\n20：15　アイシングクッキー作り\n20：30　みなさんから一言感想\n【メインスピーカー】\n・（株）ラーナロット　代表取締役　的場　衣織　氏　\n　自宅の一室から英会話教室を始め、現在はアメリカの幼児教育を英語で行う０歳からの　\n　インターナショナルプリスクールを経営。\n・サンビーム興産（有）　代表取締役　久保　真澄　氏　　\n　2022年より実父から現職を引き継ぐ。浦幌町で人材派遣業、施設管理を行い、\n　2023年より不動産業も始める。 \nPDFはこちら \n女性部会２月例会
URL:https://tokachi-obihiro.doyu.jp/event/event26875/
LOCATION:北海道帯広市東2条南5丁目1-1\, Japan
CATEGORIES:行事予定告知
ATTACH;FMTTYPE=image/jpeg:https://tokachi-obihiro.doyu.jp/wp/wp-content/uploads/2017/12/thum_logo1.jpg
ORGANIZER;CN="%E5%8C%97%E6%B5%B7%E9%81%93%E4%B8%AD%E5%B0%8F%E4%BC%81%E6%A5%AD%E5%AE%B6%E5%90%8C%E5%8F%8B%E4%BC%9A%E3%81%A8%E3%81%8B%E3%81%A1%E6%94%AF%E9%83%A8":MAILTO:tokachi@hokkaido.doyu.jp
END:VEVENT
END:VCALENDAR