BEGIN:VCALENDAR
VERSION:2.0
PRODID:-//北海道中小企業家同友会とかち支部 - ECPv4.6.8//NONSGML v1.0//EN
CALSCALE:GREGORIAN
METHOD:PUBLISH
X-WR-CALNAME:北海道中小企業家同友会とかち支部
X-ORIGINAL-URL:https://tokachi-obihiro.doyu.jp
X-WR-CALDESC:Events for 北海道中小企業家同友会とかち支部
BEGIN:VEVENT
DTSTART;TZID=Asia/Tokyo:20250206T183000
DTEND;TZID=Asia/Tokyo:20250206T193000
DTSTAMP:20260420T000134
CREATED:20250130T005722Z
LAST-MODIFIED:20250130T005722Z
UID:26872-1738866600-1738870200@tokachi-obihiro.doyu.jp
SUMMARY:とかち支部50周年 第4回記念誌部会
DESCRIPTION:■日　時：2月6日(木)18：30～19：30\n■会　場：同友会とかち事務所 (帯広市東2条南5丁目1)　\n■議題予定\n1）とかち支部50周年 記念誌作業、内容、行程等について\n2）その他 \nとかち支部50周年 第4回記念誌部会
URL:https://tokachi-obihiro.doyu.jp/event/event26872/
LOCATION:北海道帯広市東2条南5丁目1-1\, Japan
CATEGORIES:行事予定告知
ATTACH;FMTTYPE=image/jpeg:https://tokachi-obihiro.doyu.jp/wp/wp-content/uploads/2017/12/thum_logo1.jpg
ORGANIZER;CN="%E5%8C%97%E6%B5%B7%E9%81%93%E4%B8%AD%E5%B0%8F%E4%BC%81%E6%A5%AD%E5%AE%B6%E5%90%8C%E5%8F%8B%E4%BC%9A%E3%81%A8%E3%81%8B%E3%81%A1%E6%94%AF%E9%83%A8":MAILTO:tokachi@hokkaido.doyu.jp
END:VEVENT
END:VCALENDAR