BEGIN:VCALENDAR
VERSION:2.0
PRODID:-//北海道中小企業家同友会とかち支部 - ECPv4.6.8//NONSGML v1.0//EN
CALSCALE:GREGORIAN
METHOD:PUBLISH
X-WR-CALNAME:北海道中小企業家同友会とかち支部
X-ORIGINAL-URL:https://tokachi-obihiro.doyu.jp
X-WR-CALDESC:Events for 北海道中小企業家同友会とかち支部
BEGIN:VEVENT
DTSTART;TZID=Asia/Tokyo:20250213T190000
DTEND;TZID=Asia/Tokyo:20250213T210000
DTSTAMP:20260419T235330
CREATED:20250127T054146Z
LAST-MODIFIED:20250127T054146Z
UID:26863-1739473200-1739480400@tokachi-obihiro.doyu.jp
SUMMARY:第９回十勝農商工連携部会 幹事会
DESCRIPTION:十勝農商工連携部会の幹事会を開催いたします。\n◆と き： ２月１３日(木)１９：００～２１：００\n◆ところ： 同友会事務所(帯広市東２条南４丁目１９)またはZoom\n【議題予定】\n１. 企画の振り返り\n２. 今後の活動について\n３. 次年度に向けて\n４. 各研究会活動について\n　　（農村観光研/新市場・新ﾋﾞｼﾞﾈｽ開拓研/畜大パートナーズ/ソーシャルファーム研）\n５. その他 \n会場準備の関係上、2/10（月）までに出欠のご回答をお願いいたします。\n※お問い合わせは、同友会事務局（担当：末武）まで。電話0155-22-3611　　　　　　　　　　　　　　　　　　　　　　　\n返信先FAX：0155-22-3612　　E-mail: tokachi@hokkaido.doyu.jp \n第９回十勝農商工連携部会 幹事会
URL:https://tokachi-obihiro.doyu.jp/event/event26863/
LOCATION:北海道帯広市東2条南5丁目1-1\, Japan
CATEGORIES:行事予定告知
ATTACH;FMTTYPE=image/jpeg:https://tokachi-obihiro.doyu.jp/wp/wp-content/uploads/2017/12/thum_logo1.jpg
ORGANIZER;CN="%E5%8C%97%E6%B5%B7%E9%81%93%E4%B8%AD%E5%B0%8F%E4%BC%81%E6%A5%AD%E5%AE%B6%E5%90%8C%E5%8F%8B%E4%BC%9A%E3%81%A8%E3%81%8B%E3%81%A1%E6%94%AF%E9%83%A8":MAILTO:tokachi@hokkaido.doyu.jp
END:VEVENT
END:VCALENDAR