BEGIN:VCALENDAR
VERSION:2.0
PRODID:-//北海道中小企業家同友会とかち支部 - ECPv4.6.8//NONSGML v1.0//EN
CALSCALE:GREGORIAN
METHOD:PUBLISH
X-WR-CALNAME:北海道中小企業家同友会とかち支部
X-ORIGINAL-URL:https://tokachi-obihiro.doyu.jp
X-WR-CALDESC:Events for 北海道中小企業家同友会とかち支部
BEGIN:VEVENT
DTSTART;TZID=Asia/Tokyo:20250219T073000
DTEND;TZID=Asia/Tokyo:20250220T203000
DTSTAMP:20260420T010646
CREATED:20250127T014057Z
LAST-MODIFIED:20250127T014057Z
UID:26853-1739950200-1740083400@tokachi-obihiro.doyu.jp
SUMMARY:十勝農商工連携部会　日高方面視察研修旅行
DESCRIPTION:十勝農商工連携部会では、下記の日程で日高方面への視察研修旅行を企画しました。\n◆日　時：２月１９日(水)～２０日(木)【１泊２日】\n　※2/19（水）7：30 同友会事務所 集合\n◆参加費：調整中\n【内訳】\n・バス代…10\,000円～15\,000円程度\n・宿泊費…10\,900円\n・現地食事代、備品代など\n※申し込み後のキャンセルはキャンセル料が発生する場合がございます。詳細はお問合せ下さい。\n※最小催行人数10名。参加人数に応じて、参加費が変動する場合がございます。ご了承願います。 \n【行程（予定）】\n≪1日目≫2月19日（水）\n07:30　帯広（同友会事務所）出発\n08:45　道の駅　コスモール大樹　休憩\n10:30　「(株)ユートピアアグリカルチャー」\n　　　　(日高町)（放牧・養鶏・菓子作りの循環モデル）\n12:30　近隣で昼食\n15:00　「フォレスト・ベリー農園」\n　　 　(むかわ町穂別)（新規事業参入、6次化）\n18:00　宿泊・各自チェックイン、精算\n　　　　※グランドホテルニュー王子　シングルルーム\n　　　　（1泊朝食付10\,900円、喫煙ルームを消臭対応）（苫小牧市）\n　\n≪2日目≫2月20日（木）　\n11:35　「味の大王　総本店」(苫小牧市)\n　　　　　　　　　　　　　　（販売戦略・連携など）\n13:30　「北海道ブルワリー」(苫小牧市)\n　　　　　　　　　　　（クラフトビール醸造）\n19:30　道の駅　コスモール大樹\n20:30　帯広（同友会事務所）到着・解散\n時間は目安です。また、行程は変更となる場合がありますのでご了承ください。　\n準備の関係上、２月７日（金）までに出欠のご回答をお願いいたします。\n※お問い合わせは同友会事務局まで。電話0155-22-3611 \nPDFはこちら \n十勝農商工連携部会　日高方面視察研修旅行
URL:https://tokachi-obihiro.doyu.jp/event/event26853/
CATEGORIES:行事予定告知
ATTACH;FMTTYPE=image/jpeg:https://tokachi-obihiro.doyu.jp/wp/wp-content/uploads/2017/12/thum_logo1.jpg
ORGANIZER;CN="%E5%8C%97%E6%B5%B7%E9%81%93%E4%B8%AD%E5%B0%8F%E4%BC%81%E6%A5%AD%E5%AE%B6%E5%90%8C%E5%8F%8B%E4%BC%9A%E3%81%A8%E3%81%8B%E3%81%A1%E6%94%AF%E9%83%A8":MAILTO:tokachi@hokkaido.doyu.jp
END:VEVENT
END:VCALENDAR