BEGIN:VCALENDAR
VERSION:2.0
PRODID:-//北海道中小企業家同友会とかち支部 - ECPv4.6.8//NONSGML v1.0//EN
CALSCALE:GREGORIAN
METHOD:PUBLISH
X-WR-CALNAME:北海道中小企業家同友会とかち支部
X-ORIGINAL-URL:https://tokachi-obihiro.doyu.jp
X-WR-CALDESC:Events for 北海道中小企業家同友会とかち支部
BEGIN:VEVENT
DTSTART;TZID=Asia/Tokyo:20250311T133000
DTEND;TZID=Asia/Tokyo:20250311T160000
DTSTAMP:20260425T215834
CREATED:20250123T061507Z
LAST-MODIFIED:20250123T061507Z
UID:26847-1741699800-1741708800@tokachi-obihiro.doyu.jp
SUMMARY:第３期十勝経営者大学　経営学コース＜第9講＞
DESCRIPTION:＜第9講＞3/11(火)\n【テーマ】サケ・まちづくりベンチャー創業3年間の軌跡とお金のリアル\n～元公庫職員の目線から～\n【講　師】稲とアガベ(株)　 取締役CFO　齋藤　翔太　氏（秋田同友会） \n受講対象■ 会員企業の経営者、社員\n■受 講 料■ フルコース受講 55\,000円／スポット受講 10\,000円（1講につき）\n　　　　　　※請求書を発行いたしますので、記載された支払期日までにお支払いください。\n■日　　時■1月21日～3月18日 原則火曜日13:30～16:00（2時間＋質疑応答時間）\n■会　　場■同友会会議室またはZoom（帯広市東2南5丁目1　電話：0155-22-3611\n■締　　切■1月17日（金）※テーマ・一部日程は変更の可能性があります。 \n第３期十勝経営者大学　経営学コース＜第9講＞
URL:https://tokachi-obihiro.doyu.jp/event/event26847/
LOCATION:北海道帯広市東2条南5丁目1-1\, Japan
CATEGORIES:行事予定告知
ATTACH;FMTTYPE=image/jpeg:https://tokachi-obihiro.doyu.jp/wp/wp-content/uploads/2017/12/thum_logo1.jpg
ORGANIZER;CN="%E5%8C%97%E6%B5%B7%E9%81%93%E4%B8%AD%E5%B0%8F%E4%BC%81%E6%A5%AD%E5%AE%B6%E5%90%8C%E5%8F%8B%E4%BC%9A%E3%81%A8%E3%81%8B%E3%81%A1%E6%94%AF%E9%83%A8":MAILTO:tokachi@hokkaido.doyu.jp
END:VEVENT
END:VCALENDAR