BEGIN:VCALENDAR
VERSION:2.0
PRODID:-//北海道中小企業家同友会とかち支部 - ECPv4.6.8//NONSGML v1.0//EN
CALSCALE:GREGORIAN
METHOD:PUBLISH
X-WR-CALNAME:北海道中小企業家同友会とかち支部
X-ORIGINAL-URL:https://tokachi-obihiro.doyu.jp
X-WR-CALDESC:Events for 北海道中小企業家同友会とかち支部
BEGIN:VEVENT
DTSTART;TZID=Asia/Tokyo:20250206T190000
DTEND;TZID=Asia/Tokyo:20250206T213000
DTSTAMP:20260425T110647
CREATED:20250122T011627Z
LAST-MODIFIED:20250122T011627Z
UID:26789-1738868400-1738877400@tokachi-obihiro.doyu.jp
SUMMARY:経営指針研究会Aグループ第13講
DESCRIPTION:■日　時：2月6日（木）19：00～21：30 \n■会　場：日東電気工業（株）（帯広市西17南3-37-9） \n■内　容：①経営指針の実践に向けて（委員の実践報告と質疑応答）\n　　　　　②総括報告会の順番決め・（リハーサル※希望者がいれば）\n　　　　　③企業変革支援プログラムVer.2の再採点\n　　　　　④最終提出シート（理念・方針・計画）の確認　※希望者がいれば\n　　　　　※集合写真の撮影 \n■持ち物：企業変革支援プログラムVer.2 \n※最終提出シートを皆さんに見てほしい方は２日前までに事務局北村まで提出願います。\n■最終提出シート\n　１．経営理念検討シート\n　２．経営方針シート\n　３．中期経営計画 \n※ご不明な点はグループ長、委員長、事務局まで。 \n経営指針研究会Aグループ第13講
URL:https://tokachi-obihiro.doyu.jp/event/event26789/
LOCATION:北海道帯広市西17条南3丁目37−9\, Japan
CATEGORIES:行事予定告知
ATTACH;FMTTYPE=image/jpeg:https://tokachi-obihiro.doyu.jp/wp/wp-content/uploads/2017/12/thum_logo1.jpg
ORGANIZER;CN="%E5%8C%97%E6%B5%B7%E9%81%93%E4%B8%AD%E5%B0%8F%E4%BC%81%E6%A5%AD%E5%AE%B6%E5%90%8C%E5%8F%8B%E4%BC%9A%E3%81%A8%E3%81%8B%E3%81%A1%E6%94%AF%E9%83%A8":MAILTO:tokachi@hokkaido.doyu.jp
END:VEVENT
END:VCALENDAR