BEGIN:VCALENDAR
VERSION:2.0
PRODID:-//北海道中小企業家同友会とかち支部 - ECPv4.6.8//NONSGML v1.0//EN
CALSCALE:GREGORIAN
METHOD:PUBLISH
X-WR-CALNAME:北海道中小企業家同友会とかち支部
X-ORIGINAL-URL:https://tokachi-obihiro.doyu.jp
X-WR-CALDESC:Events for 北海道中小企業家同友会とかち支部
BEGIN:VEVENT
DTSTART;TZID=Asia/Tokyo:20250204T190000
DTEND;TZID=Asia/Tokyo:20250204T210000
DTSTAMP:20260421T142634
CREATED:20250110T060147Z
LAST-MODIFIED:20250203T082403Z
UID:26744-1738695600-1738702800@tokachi-obihiro.doyu.jp
SUMMARY:【開催延期】農業経営部会２月例会(農業マネジメントグループ)
DESCRIPTION:農業経営部会２月例会(農業マネジメントグループ)延期のお知らせ \n大雪の予報を受け、2月例会は延期させていただくこととなりました。\nご参加をお申込みいただいていた皆様には、大変申し訳ございません。\n新たな日程が決まり次第、改めてご案内申し上げますので、その際はどうぞよろしくお願いいたします。\n何卒ご理解のほど、よろしくお願い申し上げます。 \n【テーマ】楽しい職場にするためのパネルディスカッション\n【パネリスト】\n㈲トヨニシファーム 代表取締役　小倉　修二　氏\n㈱大野ファーム. 代表取締役　大野　泰裕　氏\n農事組合法人西上経営組合 管理課長　髙橋　伸　氏\n㈱中野牧場 　代表取締役　中野　大樹　氏\n【コーディネーター】\n桜井ファーム　代表　櫻井　浩章　氏 \n日　時：２月４日(火)１９：００～２１:００\n会　場：とかちプラザ４０１（帯広市西4条南13-1）またはZoom\n参加費：無料 \n※例会終了後、懇親会を開催します。ぜひご参加ください。\n会場：農家バル FOOD BABY（帯広市西２条南９丁目２０−１ 2F）\n会費：実費 \n※お問い合わせは、同友会事務局（担当：北村）まで。電話0155-22-3611\n会場準備等の都合上、出欠のご回答は2/3(月)までにお願いいたします。 \nPDFはこちら \n【開催延期】農業経営部会２月例会(農業マネジメントグループ)
URL:https://tokachi-obihiro.doyu.jp/event/event26744/
LOCATION:西4条南13丁目1\, 帯広市\, 北海道\, 080-0014\, Japan
CATEGORIES:行事予定告知
ATTACH;FMTTYPE=image/jpeg:https://tokachi-obihiro.doyu.jp/wp/wp-content/uploads/2017/12/thum_logo1.jpg
ORGANIZER;CN="%E5%8C%97%E6%B5%B7%E9%81%93%E4%B8%AD%E5%B0%8F%E4%BC%81%E6%A5%AD%E5%AE%B6%E5%90%8C%E5%8F%8B%E4%BC%9A%E3%81%A8%E3%81%8B%E3%81%A1%E6%94%AF%E9%83%A8":MAILTO:tokachi@hokkaido.doyu.jp
END:VEVENT
END:VCALENDAR