BEGIN:VCALENDAR
VERSION:2.0
PRODID:-//北海道中小企業家同友会とかち支部 - ECPv4.6.8//NONSGML v1.0//EN
CALSCALE:GREGORIAN
METHOD:PUBLISH
X-WR-CALNAME:北海道中小企業家同友会とかち支部
X-ORIGINAL-URL:https://tokachi-obihiro.doyu.jp
X-WR-CALDESC:Events for 北海道中小企業家同友会とかち支部
BEGIN:VEVENT
DTSTART;TZID=Asia/Tokyo:20241226T190000
DTEND;TZID=Asia/Tokyo:20241226T190000
DTSTAMP:20260421T155812
CREATED:20241210T011006Z
LAST-MODIFIED:20241210T011006Z
UID:26522-1735239600-1735239600@tokachi-obihiro.doyu.jp
SUMMARY:十勝農商工連携部会　新年例会～お互いを食べて知ろう！～ 食材提供のお願い
DESCRIPTION:十勝農商工連携部会×とかちむら×ふく井ホテル コラボ企画\n新年例会～お互いを食べて知ろう！～食材提供のお願い \n【企画予定】\n■日　　時：2025年1月下旬　19：00～21：00頃\n■会　　場：とかちむら（帯広市西１３条南８丁目1−番地）（ふく井ホテル様にてケータリング）を予定\n■参 加 者：十勝農商工連携部会　部会員15～20名程\n■内　　容：部会メンバーの食材を持ち寄った新年例会（懇親会）\n※素材だけでなくそのまま提供が可能な加工品・飲食料品も大歓迎です！\n※デザートやスイーツも大歓迎です！\n※お問い合わせは同友会事務局（担当：末武）まで。電話0155-22-3611\n※食材をご提供いただける方はご記入の上、ご返信ください。\n　正式な発注につきましては、全体の状況を見て改めてご連絡申し上げます。\n　食事内容については集まり状況を見て調整しますので、仕入れられない可能性もありますことをご了承ください。\n返信先ＦＡＸ：０１５５－２２－３６１２　＜締切＞2024年12月26日（木） \nPDFはこちら \n十勝農商工連携部会　新年例会～お互いを食べて知ろう！～ 食材提供のお願い
URL:https://tokachi-obihiro.doyu.jp/event/event26522/
CATEGORIES:行事予定告知
ATTACH;FMTTYPE=image/jpeg:https://tokachi-obihiro.doyu.jp/wp/wp-content/uploads/2017/12/thum_logo1.jpg
END:VEVENT
END:VCALENDAR