BEGIN:VCALENDAR
VERSION:2.0
PRODID:-//北海道中小企業家同友会とかち支部 - ECPv4.6.8//NONSGML v1.0//EN
CALSCALE:GREGORIAN
METHOD:PUBLISH
X-WR-CALNAME:北海道中小企業家同友会とかち支部
X-ORIGINAL-URL:https://tokachi-obihiro.doyu.jp
X-WR-CALDESC:Events for 北海道中小企業家同友会とかち支部
BEGIN:VEVENT
DTSTART;TZID=Asia/Tokyo:20241028T190000
DTEND;TZID=Asia/Tokyo:20241028T210000
DTSTAMP:20260424T133648
CREATED:20241021T014333Z
LAST-MODIFIED:20241021T014333Z
UID:26135-1730142000-1730149200@tokachi-obihiro.doyu.jp
SUMMARY:第7回あすなる会運営委員会
DESCRIPTION:2024年度　第7回運営委員会を開催します。\n■と　き／10月28日（月）19：00～21：00\n■ところ／とかちプラザ ビデオ編集室(帯広市西4条南13丁目1)またはZoom参加\n※委員会終了後、懇親会を開催します（会場未定、費用実費）。 \n【議 題】\n・10月全体例会（支部例会）の振り返り\n・グループ例会の進捗\n・12月全体例会・臨時総会について\n・2025年度の運営委員会体制について\n・その他\n次年度の代表に関する議題がありますので、欠席の方は出席者に議決を委任とさせて頂きます。\n尚「委任しない」方は連絡欄に入力して下さい。\n※議事録はMyDoyu上にアップしています。 \n第7回あすなる会運営委員会
URL:https://tokachi-obihiro.doyu.jp/event/event26135/
LOCATION:北海道帯広市西4条南13丁目1\, Japan
CATEGORIES:行事予定告知
ATTACH;FMTTYPE=image/jpeg:https://tokachi-obihiro.doyu.jp/wp/wp-content/uploads/2017/12/thum_logo1.jpg
ORGANIZER;CN="%E5%8C%97%E6%B5%B7%E9%81%93%E4%B8%AD%E5%B0%8F%E4%BC%81%E6%A5%AD%E5%AE%B6%E5%90%8C%E5%8F%8B%E4%BC%9A%E3%81%A8%E3%81%8B%E3%81%A1%E6%94%AF%E9%83%A8":MAILTO:tokachi@hokkaido.doyu.jp
END:VEVENT
END:VCALENDAR