BEGIN:VCALENDAR
VERSION:2.0
PRODID:-//北海道中小企業家同友会とかち支部 - ECPv4.6.8//NONSGML v1.0//EN
CALSCALE:GREGORIAN
METHOD:PUBLISH
X-WR-CALNAME:北海道中小企業家同友会とかち支部
X-ORIGINAL-URL:https://tokachi-obihiro.doyu.jp
X-WR-CALDESC:Events for 北海道中小企業家同友会とかち支部
BEGIN:VEVENT
DTSTART;TZID=Asia/Tokyo:20241031T163000
DTEND;TZID=Asia/Tokyo:20241031T180000
DTSTAMP:20260424T150008
CREATED:20241015T055730Z
LAST-MODIFIED:20241015T055730Z
UID:26122-1730392200-1730397600@tokachi-obihiro.doyu.jp
SUMMARY:畜大パートナーズ　経営者と「ガチ」で学ぶ交流会×勉強会
DESCRIPTION:【テーマ】\nファームノートが挑む、サステナブルな食糧生産の実現\n【報告者】　\n（株）ファームノートホールディングス　代表取締役 小林　晋也　氏 \n帯広畜産大学との連携事業「経営者と「ガチ」で学ぶ交流会×勉強会」（通称：ガチ勉）を開催致します！\n今回はファームノートホールディングスの小林社長が登壇。\nグループビジョン「生きるを、つなぐ。」の実現に向け、革新的な挑戦を続ける同社。その同社の軌跡を、今回はたっぷりお話しいただきます。\n学生の皆さんと同じテーブルで共に学び合う絶好の機会です。皆様のご参加、お待ちしております。 \n◆日　時：１０月３１日（木）１６：３０～１８：００　\n◆会　場：帯広畜産大学　講義棟１階　４番教室\n　　　　　（帯広市稲田町西2線11）\n◆参加費：無料\n◆定員：３０名 \n問い合わせは同友会事務局（担当：末武）まで。電話0155-22-3611\n準備の関係上、10月27日（日）までに出欠のご回答をお願いいたします。　　　　　　　　　　　　\n返信先FAX：0155-22-3612　　E-mail: tokachi@hokkaido.doyu.jp \nPDFはこちら \n畜大パートナーズ　経営者と「ガチ」で学ぶ交流会×勉強会
URL:https://tokachi-obihiro.doyu.jp/event/event26122/
CATEGORIES:行事予定告知
ATTACH;FMTTYPE=image/jpeg:https://tokachi-obihiro.doyu.jp/wp/wp-content/uploads/2017/12/thum_logo1.jpg
ORGANIZER;CN="%E5%8C%97%E6%B5%B7%E9%81%93%E4%B8%AD%E5%B0%8F%E4%BC%81%E6%A5%AD%E5%AE%B6%E5%90%8C%E5%8F%8B%E4%BC%9A%E3%81%A8%E3%81%8B%E3%81%A1%E6%94%AF%E9%83%A8":MAILTO:tokachi@hokkaido.doyu.jp
END:VEVENT
END:VCALENDAR