BEGIN:VCALENDAR
VERSION:2.0
PRODID:-//北海道中小企業家同友会とかち支部 - ECPv4.6.8//NONSGML v1.0//EN
CALSCALE:GREGORIAN
METHOD:PUBLISH
X-WR-CALNAME:北海道中小企業家同友会とかち支部
X-ORIGINAL-URL:https://tokachi-obihiro.doyu.jp
X-WR-CALDESC:Events for 北海道中小企業家同友会とかち支部
BEGIN:VEVENT
DTSTART;TZID=Asia/Tokyo:20240926T140000
DTEND;TZID=Asia/Tokyo:20240926T160000
DTSTAMP:20260422T100506
CREATED:20240912T013152Z
LAST-MODIFIED:20240912T013152Z
UID:25939-1727359200-1727366400@tokachi-obihiro.doyu.jp
SUMMARY:第3回共同求人委員会
DESCRIPTION:日時：9月26日（木）14:00～16:00\n会場：同友会とかち事務所 (帯広市東2条南5丁目1) または Zoomでの参加\n議題予定：１）企画の振り返り\n　　　　　２）今後の企画について\n　　　　　３）その他 \n第3回共同求人委員会
URL:https://tokachi-obihiro.doyu.jp/event/event25939/
LOCATION:北海道帯広市東2条南5丁目1-1\, Japan
CATEGORIES:行事予定告知
ATTACH;FMTTYPE=image/jpeg:https://tokachi-obihiro.doyu.jp/wp/wp-content/uploads/2017/12/thum_logo1.jpg
ORGANIZER;CN="%E5%8C%97%E6%B5%B7%E9%81%93%E4%B8%AD%E5%B0%8F%E4%BC%81%E6%A5%AD%E5%AE%B6%E5%90%8C%E5%8F%8B%E4%BC%9A%E3%81%A8%E3%81%8B%E3%81%A1%E6%94%AF%E9%83%A8":MAILTO:tokachi@hokkaido.doyu.jp
END:VEVENT
END:VCALENDAR