BEGIN:VCALENDAR
VERSION:2.0
PRODID:-//北海道中小企業家同友会とかち支部 - ECPv4.6.8//NONSGML v1.0//EN
CALSCALE:GREGORIAN
METHOD:PUBLISH
X-WR-CALNAME:北海道中小企業家同友会とかち支部
X-ORIGINAL-URL:https://tokachi-obihiro.doyu.jp
X-WR-CALDESC:Events for 北海道中小企業家同友会とかち支部
BEGIN:VEVENT
DTSTART;TZID=Asia/Tokyo:20240912T190000
DTEND;TZID=Asia/Tokyo:20240912T210000
DTSTAMP:20260420T181918
CREATED:20240829T005409Z
LAST-MODIFIED:20240829T005409Z
UID:25822-1726167600-1726174800@tokachi-obihiro.doyu.jp
SUMMARY:青年経営者の会第4回世話人会
DESCRIPTION:下記の通り2024年度第4回世話人会を開催します。\nぜひともご出席をお願いします。\n■日時：9月12日（木）19：00～21：00\n■会場：同友会事務所（帯広市東2条南5丁目1）\n　　　　またはZoom参加\n■議題\n　１）第５回例会（８月あすなる会との合同例会）の感想\n　２）第６回例会（１０月）について\n　３）第７回例会（１１月）について\n　４）臨時総会・第８回例会（１２月）について\n　５）その他、会合案内など\n※懇親会も開催予定です。 \n青年経営者の会第4回世話人会
URL:https://tokachi-obihiro.doyu.jp/event/event25822/
LOCATION:北海道帯広市東2条南5丁目1-1\, Japan
CATEGORIES:行事予定告知
ATTACH;FMTTYPE=image/jpeg:https://tokachi-obihiro.doyu.jp/wp/wp-content/uploads/2017/12/thum_logo1.jpg
ORGANIZER;CN="%E5%8C%97%E6%B5%B7%E9%81%93%E4%B8%AD%E5%B0%8F%E4%BC%81%E6%A5%AD%E5%AE%B6%E5%90%8C%E5%8F%8B%E4%BC%9A%E3%81%A8%E3%81%8B%E3%81%A1%E6%94%AF%E9%83%A8":MAILTO:tokachi@hokkaido.doyu.jp
END:VEVENT
END:VCALENDAR