BEGIN:VCALENDAR
VERSION:2.0
PRODID:-//北海道中小企業家同友会とかち支部 - ECPv4.6.8//NONSGML v1.0//EN
CALSCALE:GREGORIAN
METHOD:PUBLISH
X-WR-CALNAME:北海道中小企業家同友会とかち支部
X-ORIGINAL-URL:https://tokachi-obihiro.doyu.jp
X-WR-CALDESC:Events for 北海道中小企業家同友会とかち支部
BEGIN:VEVENT
DTSTART;TZID=Asia/Tokyo:20240903T130000
DTEND;TZID=Asia/Tokyo:20240904T120000
DTSTAMP:20260424T210422
CREATED:20240822T041852Z
LAST-MODIFIED:20240822T042225Z
UID:25803-1725368400-1725451200@tokachi-obihiro.doyu.jp
SUMMARY:広尾・大樹地区会９月例会
DESCRIPTION:テーマ；「白糠町・釧路市 ふるさと納税視察」\n日程：９月３日（火）～４日（水）\n場所：白糠町・釧路市\n集合場所：９月３日(火) 13時　白糠町役場　集合\n費用：ご宿泊代、お食事代等 実費 \n準備の都合上、8/23（金）までに出欠のご回答をお願いいたします。\nお問い合わせは同友会事務局（担当：小林）まで。電話：0155-22-3611 \nPDFはこちら \n広尾・大樹地区会９月例会
URL:https://tokachi-obihiro.doyu.jp/event/event25803/
CATEGORIES:行事予定告知
ATTACH;FMTTYPE=image/jpeg:https://tokachi-obihiro.doyu.jp/wp/wp-content/uploads/2017/12/thum_logo1.jpg
ORGANIZER;CN="%E5%8C%97%E6%B5%B7%E9%81%93%E4%B8%AD%E5%B0%8F%E4%BC%81%E6%A5%AD%E5%AE%B6%E5%90%8C%E5%8F%8B%E4%BC%9A%E3%81%A8%E3%81%8B%E3%81%A1%E6%94%AF%E9%83%A8":MAILTO:tokachi@hokkaido.doyu.jp
END:VEVENT
END:VCALENDAR