BEGIN:VCALENDAR
VERSION:2.0
PRODID:-//北海道中小企業家同友会とかち支部 - ECPv4.6.8//NONSGML v1.0//EN
CALSCALE:GREGORIAN
METHOD:PUBLISH
X-WR-CALNAME:北海道中小企業家同友会とかち支部
X-ORIGINAL-URL:https://tokachi-obihiro.doyu.jp
X-WR-CALDESC:Events for 北海道中小企業家同友会とかち支部
BEGIN:VEVENT
DTSTART;TZID=Asia/Tokyo:20240910T090500
DTEND;TZID=Asia/Tokyo:20240910T130000
DTSTAMP:20260420T141202
CREATED:20240820T073706Z
LAST-MODIFIED:20240820T073706Z
UID:25786-1725959100-1725973200@tokachi-obihiro.doyu.jp
SUMMARY:ゴルフ同好会第５回例会
DESCRIPTION:【第５回例会】　～（株）マリエッタ　杯～ \n　と　き：９月１０日（火） 　９：０５スタート \n　会　場：白樺ＣＣ \n　参加費：2，０００円（景品代） \n　※30分前までに集合してください\n　※回答期日　９月４日 \nPDFはこちら \nゴルフ同好会第５回例会
URL:https://tokachi-obihiro.doyu.jp/event/event25786/
LOCATION:音更町字長流枝17番地15\, 帯広市\, 北海道\, 080-0011\, Japan
CATEGORIES:行事予定告知
ATTACH;FMTTYPE=image/jpeg:https://tokachi-obihiro.doyu.jp/wp/wp-content/uploads/2017/12/thum_logo1.jpg
ORGANIZER;CN="%E5%8C%97%E6%B5%B7%E9%81%93%E4%B8%AD%E5%B0%8F%E4%BC%81%E6%A5%AD%E5%AE%B6%E5%90%8C%E5%8F%8B%E4%BC%9A%E3%81%A8%E3%81%8B%E3%81%A1%E6%94%AF%E9%83%A8":MAILTO:tokachi@hokkaido.doyu.jp
END:VEVENT
END:VCALENDAR