BEGIN:VCALENDAR
VERSION:2.0
PRODID:-//北海道中小企業家同友会とかち支部 - ECPv4.6.8//NONSGML v1.0//EN
CALSCALE:GREGORIAN
METHOD:PUBLISH
X-WR-CALNAME:北海道中小企業家同友会とかち支部
X-ORIGINAL-URL:https://tokachi-obihiro.doyu.jp
X-WR-CALDESC:Events for 北海道中小企業家同友会とかち支部
BEGIN:VEVENT
DTSTART;TZID=Asia/Tokyo:20240906T190000
DTEND;TZID=Asia/Tokyo:20240906T210000
DTSTAMP:20260422T141927
CREATED:20240819T012226Z
LAST-MODIFIED:20240819T012226Z
UID:25769-1725649200-1725656400@tokachi-obihiro.doyu.jp
SUMMARY:本別地区会　9月例会
DESCRIPTION:【テーマ】\n未来を拓く、北海道のめん羊事業\n登壇者\n・（有）茶路めん羊牧場 代表取締役 武藤 浩史 氏（くしろ支部）\n・石田めん羊牧場 代表 石田 直久 氏（足寄）\n・HAARひつじ牧場 代表 宮原 優斗 氏（浦幌） \n◆と　き：９月６日(金)１９：００～２１：００\n◆ところ：本別町中央公民館　視聴覚室（本別町北1丁目4番地27）\n◆会　費：無料　※食事のご用意はありません。 \n※準備のため、8月30日（金）までに出欠回答を頂ければ幸いです。\nお問い合わせは、同友会事務局（TEL：0155-22-3611）まで。 \n返信先FAX：0155-22-3612　　E-mail: tokachi@hokkaido.doyu.jp \nPDFはこちら \n本別地区会　9月例会
URL:https://tokachi-obihiro.doyu.jp/event/event25769/
LOCATION:北海道中川郡本別町北１丁目４−２７\, 北海道\, Japan
CATEGORIES:行事予定告知
ATTACH;FMTTYPE=image/jpeg:https://tokachi-obihiro.doyu.jp/wp/wp-content/uploads/2017/12/thum_logo1.jpg
ORGANIZER;CN="%E5%8C%97%E6%B5%B7%E9%81%93%E4%B8%AD%E5%B0%8F%E4%BC%81%E6%A5%AD%E5%AE%B6%E5%90%8C%E5%8F%8B%E4%BC%9A%E3%81%A8%E3%81%8B%E3%81%A1%E6%94%AF%E9%83%A8":MAILTO:tokachi@hokkaido.doyu.jp
END:VEVENT
END:VCALENDAR