BEGIN:VCALENDAR
VERSION:2.0
PRODID:-//北海道中小企業家同友会とかち支部 - ECPv4.6.8//NONSGML v1.0//EN
CALSCALE:GREGORIAN
METHOD:PUBLISH
X-WR-CALNAME:北海道中小企業家同友会とかち支部
X-ORIGINAL-URL:https://tokachi-obihiro.doyu.jp
X-WR-CALDESC:Events for 北海道中小企業家同友会とかち支部
BEGIN:VEVENT
DTSTART;TZID=Asia/Tokyo:20240903T190000
DTEND;TZID=Asia/Tokyo:20240903T210000
DTSTAMP:20260422T114102
CREATED:20240809T004832Z
LAST-MODIFIED:20240809T004832Z
UID:25750-1725390000-1725397200@tokachi-obihiro.doyu.jp
SUMMARY:第２回いろはの会
DESCRIPTION:【テーマ】私と同友会活動について\n【話題提供者】\n☆総務委員会　委員長　（2012年入会）\nコマツ道東（株）　代表取締役社長　　中島　良太　氏\n☆学び合い活動推進委員会　副委員長\n共同求人委員会　副委員長　（2016年入会）\n（株）進藤鋳造鉄工所　代表取締役　　進藤　寛也　氏 \n■日　時：９月３日(火)１９：００～２１：００\n■会　場：同友会事務所（帯広市東2条南5丁目1）\n■対　象：2023年3月以降に入会された方にご案内しております \nお問い合わせは、同友会事務局まで（電話0155-22-3611） \nPDFはこちら \n第２回いろはの会
URL:https://tokachi-obihiro.doyu.jp/event/event25750/
LOCATION:北海道帯広市東2条南5丁目1-1\, Japan
CATEGORIES:行事予定告知
ATTACH;FMTTYPE=image/jpeg:https://tokachi-obihiro.doyu.jp/wp/wp-content/uploads/2017/12/thum_logo1.jpg
ORGANIZER;CN="%E5%8C%97%E6%B5%B7%E9%81%93%E4%B8%AD%E5%B0%8F%E4%BC%81%E6%A5%AD%E5%AE%B6%E5%90%8C%E5%8F%8B%E4%BC%9A%E3%81%A8%E3%81%8B%E3%81%A1%E6%94%AF%E9%83%A8":MAILTO:tokachi@hokkaido.doyu.jp
END:VEVENT
END:VCALENDAR