BEGIN:VCALENDAR
VERSION:2.0
PRODID:-//北海道中小企業家同友会とかち支部 - ECPv4.6.8//NONSGML v1.0//EN
CALSCALE:GREGORIAN
METHOD:PUBLISH
X-WR-CALNAME:北海道中小企業家同友会とかち支部
X-ORIGINAL-URL:https://tokachi-obihiro.doyu.jp
X-WR-CALDESC:Events for 北海道中小企業家同友会とかち支部
BEGIN:VEVENT
DTSTART;TZID=Asia/Tokyo:20240806T190000
DTEND;TZID=Asia/Tokyo:20240806T203000
DTSTAMP:20260422T084543
CREATED:20240711T050539Z
LAST-MODIFIED:20240711T050539Z
UID:25587-1722970800-1722976200@tokachi-obihiro.doyu.jp
SUMMARY:第1回学び合い活動推進委員会 兼 拓の会グループ長会議
DESCRIPTION:第1回学び合い活動推進委員会 兼 拓の会グループ長会議を下記日程で開催させていただきます。\nご多用とは存じますが、是非ともご出席下さいますようお願い申し上げます。\n■日　時：8月6日（火）19：00～20：30\n■会　場：同友会とかち事務所（帯広市東２条南５丁目１）またはZoom\n■議　題：\n１）2024年度『拓の会』活動の進捗について\n２）今後の活動について\n３）その他\n※お問い合わせは同友会事務局・山地（電話0155-22-3611）まで。\n※Zoom参加の方は、開催日が近づきましたらID等をメールで送付します。 \n第1回学び合い活動推進委員会 兼 拓の会グループ長会議
URL:https://tokachi-obihiro.doyu.jp/event/event25587/
LOCATION:北海道帯広市東2条南5丁目1-1\, Japan
CATEGORIES:行事予定告知
ATTACH;FMTTYPE=image/jpeg:https://tokachi-obihiro.doyu.jp/wp/wp-content/uploads/2017/12/thum_logo1.jpg
ORGANIZER;CN="%E5%8C%97%E6%B5%B7%E9%81%93%E4%B8%AD%E5%B0%8F%E4%BC%81%E6%A5%AD%E5%AE%B6%E5%90%8C%E5%8F%8B%E4%BC%9A%E3%81%A8%E3%81%8B%E3%81%A1%E6%94%AF%E9%83%A8":MAILTO:tokachi@hokkaido.doyu.jp
END:VEVENT
END:VCALENDAR