BEGIN:VCALENDAR
VERSION:2.0
PRODID:-//北海道中小企業家同友会とかち支部 - ECPv4.6.8//NONSGML v1.0//EN
CALSCALE:GREGORIAN
METHOD:PUBLISH
X-WR-CALNAME:北海道中小企業家同友会とかち支部
X-ORIGINAL-URL:https://tokachi-obihiro.doyu.jp
X-WR-CALDESC:Events for 北海道中小企業家同友会とかち支部
BEGIN:VEVENT
DTSTART;TZID=Asia/Tokyo:20240726T190000
DTEND;TZID=Asia/Tokyo:20240726T210000
DTSTAMP:20260421T154224
CREATED:20240703T040319Z
LAST-MODIFIED:20240711T015013Z
UID:25510-1722020400-1722027600@tokachi-obihiro.doyu.jp
SUMMARY:広尾地区会・大樹地区会7月合同例会
DESCRIPTION:テーマ；「ふるさと納税について考えよう。\n～広尾の現状を知り、地域と企業で生み出せるもの～」\n報告者；広尾町役場 水産商工観光課 小澤氏\n（株）さとふる 北海道営業所 溝口氏 \n■日 時；７月２６日（金） １９：００～２１：００\n■会 場；菊地ファーム（広尾郡広尾町字野塚11線8番地4）またはZOOM\n■会 費；１\,５００円（お食事代として） \n※Zoom の方は無料\n※７/20(土)以降のキャンセルは会費を申し受けます。ご了承ください。\n※領収書はお店から発行します。\nお食事手配の都合上、７月19日（金）までに出欠のご回答をお願いいたします。\nお問い合わせは同友会事務局（担当：小林）まで。電話：0155-22-3611 \nPDFはこちら \n広尾地区会・大樹地区会7月合同例会
URL:https://tokachi-obihiro.doyu.jp/event/event25510/
LOCATION:広尾町野塚11線8番地4\, 広尾郡\, 北海道\, 089-0112\, Japan
CATEGORIES:行事予定告知
ATTACH;FMTTYPE=image/jpeg:https://tokachi-obihiro.doyu.jp/wp/wp-content/uploads/2017/12/thum_logo1.jpg
ORGANIZER;CN="%E5%8C%97%E6%B5%B7%E9%81%93%E4%B8%AD%E5%B0%8F%E4%BC%81%E6%A5%AD%E5%AE%B6%E5%90%8C%E5%8F%8B%E4%BC%9A%E3%81%A8%E3%81%8B%E3%81%A1%E6%94%AF%E9%83%A8":MAILTO:tokachi@hokkaido.doyu.jp
END:VEVENT
END:VCALENDAR