BEGIN:VCALENDAR
VERSION:2.0
PRODID:-//北海道中小企業家同友会とかち支部 - ECPv4.6.8//NONSGML v1.0//EN
CALSCALE:GREGORIAN
METHOD:PUBLISH
X-WR-CALNAME:北海道中小企業家同友会とかち支部
X-ORIGINAL-URL:https://tokachi-obihiro.doyu.jp
X-WR-CALDESC:Events for 北海道中小企業家同友会とかち支部
BEGIN:VEVENT
DTSTART;TZID=Asia/Tokyo:20240713T073000
DTEND;TZID=Asia/Tokyo:20240713T170000
DTSTAMP:20260422T101512
CREATED:20240627T011009Z
LAST-MODIFIED:20240627T011009Z
UID:25428-1720855800-1720890000@tokachi-obihiro.doyu.jp
SUMMARY:環境部会７月視察例会
DESCRIPTION:下記の通り環境部会７月例会を開催します。\nぜひご予定頂きますようお願い申し上げます。\n■日　時：７月１３日（土） ７：３０～１７：００頃\n■集　合：ナチュラルココ（帯広市西10条南1丁目10-3）\n■視察先：アポイ岳ジオパークビジターセンター\n　　　　（様似郡様似町平宇４７９−７）　\n現地では、ビジターセンターの職員の方に展示の解説をして頂く予定です。\n■参加費：5\,000円程度を予定（車代、ガソリン代等）\n※参加人数によって変動します。参加費は後日事務局より請求書をお送りします。\n※昼食は現地にて各自実費でお支払い願います。\n【タイムスケジュール（仮）】※行程は状況により、変わる場合がございます。\n７：３０　ナチュラル・ココ本店集合　車で移動\n１０：００　アポイ岳ジオパークビジターセンター　到着\n１１：３０　見学終了\n　　　　　　様似町内で昼食\n１３：３０　昼食後、適宜様似町内を散策\n１７：００頃ナチュラル・ココ本店到着、解散\n準備の関係上、7月5日（金）までに出欠のご回答をお願いいたします。\nお問い合わせは同友会事務局（担当：末武）まで。電話：0155-22-3611 \nPDFはこちら \n環境部会７月視察例会
URL:https://tokachi-obihiro.doyu.jp/event/event25428/
LOCATION:北海道帯広市西10条南1丁目10-3\, Japan
CATEGORIES:行事予定告知
ATTACH;FMTTYPE=image/jpeg:https://tokachi-obihiro.doyu.jp/wp/wp-content/uploads/2017/12/thum_logo1.jpg
ORGANIZER;CN="%E5%8C%97%E6%B5%B7%E9%81%93%E4%B8%AD%E5%B0%8F%E4%BC%81%E6%A5%AD%E5%AE%B6%E5%90%8C%E5%8F%8B%E4%BC%9A%E3%81%A8%E3%81%8B%E3%81%A1%E6%94%AF%E9%83%A8":MAILTO:tokachi@hokkaido.doyu.jp
END:VEVENT
END:VCALENDAR