BEGIN:VCALENDAR
VERSION:2.0
PRODID:-//北海道中小企業家同友会とかち支部 - ECPv4.6.8//NONSGML v1.0//EN
CALSCALE:GREGORIAN
METHOD:PUBLISH
X-WR-CALNAME:北海道中小企業家同友会とかち支部
X-ORIGINAL-URL:https://tokachi-obihiro.doyu.jp
X-WR-CALDESC:Events for 北海道中小企業家同友会とかち支部
BEGIN:VEVENT
DTSTART;TZID=Asia/Tokyo:20240618T190000
DTEND;TZID=Asia/Tokyo:20240618T210000
DTSTAMP:20260422T031042
CREATED:20240611T014940Z
LAST-MODIFIED:20240611T014940Z
UID:25341-1718737200-1718744400@tokachi-obihiro.doyu.jp
SUMMARY:新得地区会　打合せ会議
DESCRIPTION:【テーマ】\n地区会交流会に向けた打合せ \n◆と き：６月１８日(火)１９：００～２１：００\n◆ところ：新得町公民館（新得町4条南4丁目9番地 ℡: 0156-64-5874）\n◆会 費：無料 ※お食事のご用意はありません。 \n準備の関係上、6月17日（月）までに出欠回答をお願いします。\nお問い合わせは、同友会事務局まで。電話0155-22-3611（担当：末武） \nPDFはこちら \n新得地区会　打合せ会議
URL:https://tokachi-obihiro.doyu.jp/event/event25341/
LOCATION:上川郡新得町4条南4丁目9番地\, 081-0014\, Japan
CATEGORIES:行事予定告知
ATTACH;FMTTYPE=image/jpeg:https://tokachi-obihiro.doyu.jp/wp/wp-content/uploads/2017/12/thum_logo1.jpg
ORGANIZER;CN="%E5%8C%97%E6%B5%B7%E9%81%93%E4%B8%AD%E5%B0%8F%E4%BC%81%E6%A5%AD%E5%AE%B6%E5%90%8C%E5%8F%8B%E4%BC%9A%E3%81%A8%E3%81%8B%E3%81%A1%E6%94%AF%E9%83%A8":MAILTO:tokachi@hokkaido.doyu.jp
END:VEVENT
END:VCALENDAR