BEGIN:VCALENDAR
VERSION:2.0
PRODID:-//北海道中小企業家同友会とかち支部 - ECPv4.6.8//NONSGML v1.0//EN
CALSCALE:GREGORIAN
METHOD:PUBLISH
X-WR-CALNAME:北海道中小企業家同友会とかち支部
X-ORIGINAL-URL:https://tokachi-obihiro.doyu.jp
X-WR-CALDESC:Events for 北海道中小企業家同友会とかち支部
BEGIN:VEVENT
DTSTART;TZID=Asia/Tokyo:20240617T190000
DTEND;TZID=Asia/Tokyo:20240617T203000
DTSTAMP:20260421T144100
CREATED:20240607T045215Z
LAST-MODIFIED:20240607T045215Z
UID:25275-1718650800-1718656200@tokachi-obihiro.doyu.jp
SUMMARY:青年経営者の会第３回例会
DESCRIPTION:第3回例会は、三井住友海上あいおい生命保険(株)の勝並氏をお招きしお話いただきます。\n勝並氏は同社にて、営業部門のDX推進、デジタルを活用した業務効率化、DX人材育成に関する企画・伴走支援を行っています。\n今回の例会を通じて、デジタルと活用した業務効率化等、中小企業のためのDXについて学びます。皆様のご参加お待ちしております。 \nテーマ／中小企業のためのDX\n講　師／三井住友海上あいおい生命保険(株)\n　　　　デジタルイノベーション部　DI推進G　次長　　勝並　進 氏 \n■日　時：６月１７日（月）１９：００～２０：３０\n■会　場：同友会とかち事務所（帯広市東2条南5丁目1）\n　　　　 またはZOOM参加\n■参加費：無料　\n・終了後に、懇親会を開催します。会場未定、会費実費 \nPDFはこちら \n青年経営者の会第３回例会
URL:https://tokachi-obihiro.doyu.jp/event/event25275/
LOCATION:北海道帯広市東2条南5丁目1-1\, Japan
CATEGORIES:行事予定告知
ATTACH;FMTTYPE=image/jpeg:https://tokachi-obihiro.doyu.jp/wp/wp-content/uploads/2017/12/thum_logo1.jpg
ORGANIZER;CN="%E5%8C%97%E6%B5%B7%E9%81%93%E4%B8%AD%E5%B0%8F%E4%BC%81%E6%A5%AD%E5%AE%B6%E5%90%8C%E5%8F%8B%E4%BC%9A%E3%81%A8%E3%81%8B%E3%81%A1%E6%94%AF%E9%83%A8":MAILTO:tokachi@hokkaido.doyu.jp
END:VEVENT
END:VCALENDAR