BEGIN:VCALENDAR
VERSION:2.0
PRODID:-//北海道中小企業家同友会とかち支部 - ECPv4.6.8//NONSGML v1.0//EN
CALSCALE:GREGORIAN
METHOD:PUBLISH
X-WR-CALNAME:北海道中小企業家同友会とかち支部
X-ORIGINAL-URL:https://tokachi-obihiro.doyu.jp
X-WR-CALDESC:Events for 北海道中小企業家同友会とかち支部
BEGIN:VEVENT
DTSTART;TZID=Asia/Tokyo:20240611T180000
DTEND;TZID=Asia/Tokyo:20240611T200000
DTSTAMP:20260425T041251
CREATED:20240529T012051Z
LAST-MODIFIED:20240529T012051Z
UID:25220-1718128800-1718136000@tokachi-obihiro.doyu.jp
SUMMARY:十勝農商工連携部会 ソーシャルファーム研究会準備会 ６月例会
DESCRIPTION:【テーマ】探ろう！多様性を活かす社会的企業の形 ソーシャルファーム\n【話題提供】（株）カンナ・カンナ　代表取締役　三浦　直美　氏 \nソーシャルファーム研究会準備会の6月例会を開催致します。\n5月例会ではこれからの時代のソーシャルファームの在り方について、皆さんで意見交換をしてまいりました。\n6月例会では会場を幸福BASEに移し、引き続き意見交換できればと存じます。\n皆さんの考えを共有しながら、学びを深めましょう。是非ご参加ください。 \n◆日　時：６月１１日（金）　１８：００～２０：００　\n◆会　場：幸福BASE（帯広市幸福町東1線（旧幸福駅構内））\n◆参加費：無料（※飲み物などを買われる方は実費）\n問い合わせは同友会事務局まで。電話0155-22-3611\n準備の関係上、6月7日（水）までに出欠のご回答をお願いいたします。 \nPDFはこちら \n十勝農商工連携部会 ソーシャルファーム研究会準備会 ６月例会
URL:https://tokachi-obihiro.doyu.jp/event/event25220/
LOCATION:北海道帯広市幸福町東1線\, Japan
CATEGORIES:行事予定告知
ATTACH;FMTTYPE=image/jpeg:https://tokachi-obihiro.doyu.jp/wp/wp-content/uploads/2017/12/thum_logo1.jpg
ORGANIZER;CN="%E5%8C%97%E6%B5%B7%E9%81%93%E4%B8%AD%E5%B0%8F%E4%BC%81%E6%A5%AD%E5%AE%B6%E5%90%8C%E5%8F%8B%E4%BC%9A%E3%81%A8%E3%81%8B%E3%81%A1%E6%94%AF%E9%83%A8":MAILTO:tokachi@hokkaido.doyu.jp
END:VEVENT
END:VCALENDAR