BEGIN:VCALENDAR
VERSION:2.0
PRODID:-//北海道中小企業家同友会とかち支部 - ECPv4.6.8//NONSGML v1.0//EN
CALSCALE:GREGORIAN
METHOD:PUBLISH
X-WR-CALNAME:北海道中小企業家同友会とかち支部
X-ORIGINAL-URL:https://tokachi-obihiro.doyu.jp
X-WR-CALDESC:Events for 北海道中小企業家同友会とかち支部
BEGIN:VEVENT
DTSTART;TZID=Asia/Tokyo:20240508T190000
DTEND;TZID=Asia/Tokyo:20240508T210000
DTSTAMP:20260420T181933
CREATED:20240415T012153Z
LAST-MODIFIED:20240415T012153Z
UID:24899-1715194800-1715202000@tokachi-obihiro.doyu.jp
SUMMARY:清水地区会 ５月例会
DESCRIPTION:【テーマ】\n目指せ「ゼロカーボンシティ」～清水町が参画するJクレジットを学ぼう～\n【講　師】清水町役場　農林課　　　課長　寺岡　治彦\n農林課　林務係長　木戸　悠登　氏\n■日　時：５月８日（水）１９：００～２１：００\n■会　場：清水町文化センター　会議室1（清水町南３条３丁目１−１）\n■会　費：無料 \n準備の関係上、5月1日（水）までに出欠のご回答をお願いいたします。\nお問い合わせは同友会事務局まで。電話：0155-22-3611 \nPDFはこちら \n清水地区会 ５月例会
URL:https://tokachi-obihiro.doyu.jp/event/event24899/
LOCATION:北海道上川郡清水町南3条3-1\, Japan
CATEGORIES:行事予定告知
ATTACH;FMTTYPE=image/jpeg:https://tokachi-obihiro.doyu.jp/wp/wp-content/uploads/2017/12/thum_logo1.jpg
ORGANIZER;CN="%E5%8C%97%E6%B5%B7%E9%81%93%E4%B8%AD%E5%B0%8F%E4%BC%81%E6%A5%AD%E5%AE%B6%E5%90%8C%E5%8F%8B%E4%BC%9A%E3%81%A8%E3%81%8B%E3%81%A1%E6%94%AF%E9%83%A8":MAILTO:tokachi@hokkaido.doyu.jp
END:VEVENT
END:VCALENDAR