BEGIN:VCALENDAR
VERSION:2.0
PRODID:-//北海道中小企業家同友会とかち支部 - ECPv4.6.8//NONSGML v1.0//EN
CALSCALE:GREGORIAN
METHOD:PUBLISH
X-WR-CALNAME:北海道中小企業家同友会とかち支部
X-ORIGINAL-URL:https://tokachi-obihiro.doyu.jp
X-WR-CALDESC:Events for 北海道中小企業家同友会とかち支部
BEGIN:VEVENT
DTSTART;TZID=Asia/Tokyo:20240410T183000
DTEND;TZID=Asia/Tokyo:20240410T213000
DTSTAMP:20260422T084531
CREATED:20240301T051636Z
LAST-MODIFIED:20240301T051636Z
UID:24700-1712773800-1712784600@tokachi-obihiro.doyu.jp
SUMMARY:あすなる会　第２６回定時総会
DESCRIPTION:今年で26年目を迎えたあすなる会は「あす社長になる」という決意を込めて後継者の育成を担ってきました。\nさて、下記の通り『第26回定時総会』を開催いたします。\n新年度のグループ活動に向けてメンバーの自己紹介と例会への意見交換を行ってまいります。\n今年の活動の大きな流れを決める大切な例会です。\nご多忙中とは存じますが、是非ともご予定ください。皆様のご参加を心よりお待ちしております。\n＜テーマ＞\n　友をつくり共に学ぶ　共に育つグループ活動を目指して\n　～2024年度あす社長になる為のグループ活動説明会 ～\n━━━━━━━━━━━━━━━━━━━━━━━━━━━━\n日　時：４月１０日（水）１８：３０～２１：３０\n　　　　＜第１部　総　会＞　18:30～19:00\n　　　　＜第２部　例　会＞　19:00～19:40\n　　　　＜第３部　懇親会＞　19:50～21:30\n　　　　★終了後、二次会を開催します！現時点での出欠をお知らせください。\n会　場：ふく井ホテル（帯広市西1条南11丁目19-1、電話：0155-25-1717）\n参加費：５\,５００円（ご飲食代として）領収書はお店から発行\n　　　　※総会・例会のみの参加は無料\n　　　　※4/5（金）17時以降のキャンセルは会費を申し受けますことをご了承ください。\n　　　　※当日はあすなる会の年会費15\,000円を併せて申し受けます。\n━━━━━━━━━━━━━━━━━━━━━━━━━━━━\n食事手配の都合上、４月５日（金）までに出欠回答をお願いします。\n～委任状について～\n  総会を欠席される方は\n　「出席者に議決を委任」とさせて頂きます。\n　尚、委任しない方はその理由を連絡事項欄に入力して下さい。 \nPDFはこちら \nあすなる会　第２６回定時総会
URL:https://tokachi-obihiro.doyu.jp/event/event24700/
LOCATION:帯広市西1条南11丁目19\, Japan
CATEGORIES:行事予定告知
ATTACH;FMTTYPE=image/jpeg:https://tokachi-obihiro.doyu.jp/wp/wp-content/uploads/2017/12/thum_logo1.jpg
ORGANIZER;CN="%E5%8C%97%E6%B5%B7%E9%81%93%E4%B8%AD%E5%B0%8F%E4%BC%81%E6%A5%AD%E5%AE%B6%E5%90%8C%E5%8F%8B%E4%BC%9A%E3%81%A8%E3%81%8B%E3%81%A1%E6%94%AF%E9%83%A8":MAILTO:tokachi@hokkaido.doyu.jp
END:VEVENT
END:VCALENDAR