BEGIN:VCALENDAR
VERSION:2.0
PRODID:-//北海道中小企業家同友会とかち支部 - ECPv4.6.8//NONSGML v1.0//EN
CALSCALE:GREGORIAN
METHOD:PUBLISH
X-WR-CALNAME:北海道中小企業家同友会とかち支部
X-ORIGINAL-URL:https://tokachi-obihiro.doyu.jp
X-WR-CALDESC:Events for 北海道中小企業家同友会とかち支部
BEGIN:VEVENT
DTSTART;TZID=Asia/Tokyo:20240228T153000
DTEND;TZID=Asia/Tokyo:20240228T173000
DTSTAMP:20260423T083320
CREATED:20240209T021846Z
LAST-MODIFIED:20240209T021846Z
UID:24556-1709134200-1709141400@tokachi-obihiro.doyu.jp
SUMMARY:環境部会２月例会
DESCRIPTION:環境部会2月例会は「防災」「減災」がテーマです。\n本例会では、改めて企業の災害対策や、断水に向けた備えなどを学んで参ります。\n中小企業は地域のインフラです。普段から災害に備えておき、少しでも地域の被害を少なくするため、学びましょう。\n皆様のご参加をお待ちしております。 \n■日　時：２月２８日（水） １５：３０～１７：３０\n■テーマ：その備え、大丈夫ですか？～確認しよう！自社の災害対策～\n■報 告 者：高田　敦史　氏\n　　　　（帯広市総務部危機対策室危機対策課）\n■会　場：同友会事務所（帯広市東2条南5丁目1／0155-22-3611）\n■参加費：1\,000円（1名あたり。関係費等として） \n直前のご案内となり恐縮ですが、2月22日（木）までに出欠のご回答をお願いいたします。\nお問い合わせは同友会事務局まで。電話：0155-22-3611 \nPDFはこちら \n環境部会２月例会
URL:https://tokachi-obihiro.doyu.jp/event/event24556/
LOCATION:北海道帯広市東2条南5丁目1-1\, Japan
CATEGORIES:行事予定告知
ATTACH;FMTTYPE=image/jpeg:https://tokachi-obihiro.doyu.jp/wp/wp-content/uploads/2017/12/thum_logo1.jpg
ORGANIZER;CN="%E5%8C%97%E6%B5%B7%E9%81%93%E4%B8%AD%E5%B0%8F%E4%BC%81%E6%A5%AD%E5%AE%B6%E5%90%8C%E5%8F%8B%E4%BC%9A%E3%81%A8%E3%81%8B%E3%81%A1%E6%94%AF%E9%83%A8":MAILTO:tokachi@hokkaido.doyu.jp
END:VEVENT
END:VCALENDAR