BEGIN:VCALENDAR
VERSION:2.0
PRODID:-//北海道中小企業家同友会とかち支部 - ECPv4.6.8//NONSGML v1.0//EN
CALSCALE:GREGORIAN
METHOD:PUBLISH
X-WR-CALNAME:北海道中小企業家同友会とかち支部
X-ORIGINAL-URL:https://tokachi-obihiro.doyu.jp
X-WR-CALDESC:Events for 北海道中小企業家同友会とかち支部
BEGIN:VEVENT
DTSTART;TZID=Asia/Tokyo:20240221T190000
DTEND;TZID=Asia/Tokyo:20240221T210000
DTSTAMP:20260422T173829
CREATED:20240207T014546Z
LAST-MODIFIED:20240207T014546Z
UID:24543-1708542000-1708549200@tokachi-obihiro.doyu.jp
SUMMARY:新得地区会2月例会
DESCRIPTION:【テーマ】金融機関が取組む本業支援について \n■講　師：松岡 政年 氏（帯広信用金庫　新得支店　支店長）\n■日　時：２月２１日（水）１９：００～２１：００\n■会 場：新得町公民館　1F研修室\n（上川郡新得町4条南4丁目9番地　TEL：0156-64-0532）\n■会　費:無料 \n準備の関係上、2月19日（月）までに出欠のご回答をお願いいたします。\n※お問い合わせは同友会事務局（担当：末武）まで。電話：0155-22-3611 \nPDFはこちら \n新得地区会2月例会
URL:https://tokachi-obihiro.doyu.jp/event/event24543/
LOCATION:上川郡新得町4条南4丁目9番地\, 081-0014\, Japan
CATEGORIES:行事予定告知
ATTACH;FMTTYPE=image/jpeg:https://tokachi-obihiro.doyu.jp/wp/wp-content/uploads/2017/12/thum_logo1.jpg
ORGANIZER;CN="%E5%8C%97%E6%B5%B7%E9%81%93%E4%B8%AD%E5%B0%8F%E4%BC%81%E6%A5%AD%E5%AE%B6%E5%90%8C%E5%8F%8B%E4%BC%9A%E3%81%A8%E3%81%8B%E3%81%A1%E6%94%AF%E9%83%A8":MAILTO:tokachi@hokkaido.doyu.jp
END:VEVENT
END:VCALENDAR